Workbook

Sheet ALL roll. list
A1: विज्ञान वर्ग | C1: / कृषि वर्ग / कला वर्ग
A2: क्र.सं. | B2: रोल नं. | C2: परीक्षार्थी का नाम | D2: पिता का नाम
A3: =IF(B3="","",ROW()-2) -> 1 | B3: 1032416 | C3: Anuj | D3: Bihari Lal | F3: इस शीट पर सभी विद्यार्थियों के रोल नंबर , नाम तथा पिता का नाम लिखे | फिर जिनका बैच बनाना है ओनली उनके रोल रोल नंबर कॉपी कर मास्टर शीट में पेस्ट वैल्यू करे | और प्रिंट लें
A4: =IF(B4="","",ROW()-2) -> 2 | B4: 1032417 | C4: Anupoorna | D4: Gopiram
A5: =IF(B5="","",ROW()-2) -> 3 | B5: 1032418 | C5: Harsha | D5: Dana Ram
A6: =IF(B6="","",ROW()-2) -> 4 | B6: 1032419 | C6: Mannat | D6: Ramesh Kumar
A7: =IF(B7="","",ROW()-2) -> 5 | B7: 1032420 | C7: Manpreet Kaur | D7: Sukhdev
A8: =IF(B8="","",ROW()-2) -> 6 | B8: 1032421 | C8: Manveer Singh | D8: Sukhavant Singh
A9: =IF(B9="","",ROW()-2) -> 7 | B9: 1032422 | C9: Mohit | D9: Ramkumar
A10: =IF(B10="","",ROW()-2) -> 8 | B10: 1032423 | C10: Prachi | D10: Mahender Kumar
A11: =IF(B11="","",ROW()-2) -> 9 | B11: 1032424 | C11: Sachin | D11: Rajender Singh
A12: =IF(B12="","",ROW()-2)
A13: =IF(B13="","",ROW()-2)
A14: =IF(B14="","",ROW()-2)
A15: =IF(B15="","",ROW()-2)
A16: =IF(B16="","",ROW()-2)
A17: =IF(B17="","",ROW()-2)
A18: =IF(B18="","",ROW()-2)
A19: =IF(B19="","",ROW()-2)
A20: =IF(B20="","",ROW()-2)
A21: =IF(B21="","",ROW()-2)
A22: =IF(B22="","",ROW()-2)
A23: =IF(B23="","",ROW()-2)
... A1100: =IF(B1100="","",ROW()-2)

Sheet MASTER
A1: माध्यमिक शिक्षा बोर्ड राजस्थान, अजमेर | D1: क्र.सं. | E1: रोल नं. | F1: परीक्षार्थी का नाम | G1: पिता का नाम | I1: बैच प्रारम्भिक रोल न. | J1: बैच में कुल विद्यार्थी | K1: संकाय
A2: उच्च माध्यमिक प्रायोगिक परीक्षा - 2026 | D2: 1 | E2: 1032419 | F2: =IFERROR(UPPER(IF(D2="","",VLOOKUP(E2,'ALL roll. list'!$B$3:$D$1500,2,0))),"") -> MANNAT | G2: =IFERROR(UPPER(IF(D2="","",VLOOKUP(E2,'ALL roll. list'!$B$3:$D$1500,3,0))),"") -> RAMESH KUMAR | I2: =E2 -> 1032419 | J2: 25 | K2: विज्ञान वर्ग | M2: विषय | N2: विषय कोड
A3: विद्यालय का नाम | D3: =IF(D2>=$J$2,"",D2+1) -> 2 | E3: =IF(D3="","",ROW($E$1)+E2) -> 1032420 | F3: =IFERROR(UPPER(IF(D3="","",VLOOKUP(E3,'ALL roll. list'!$B$3:$D$1500,2,0))),"") -> MANPREET KAUR | G3: =IFERROR(UPPER(IF(D3="","",VLOOKUP(E3,'ALL roll. list'!$B$3:$D$1500,3,0))),"") -> SUKHDEV | M3: CHEMISTRY | N3: 41
A4: GOVT.SR.SEC.SCH., BUGIA SRI VIJAYNAGAR , GANGANAGAR | D4: =IF(D3>=$J$2,"",D3+1) -> 3 | E4: =IF(D4="","",ROW($E$1)+E3) -> 1032421 | F4: =IFERROR(UPPER(IF(D4="","",VLOOKUP(E4,'ALL roll. list'!$B$3:$D$1500,2,0))),"") -> MANVEER SINGH | G4: =IFERROR(UPPER(IF(D4="","",VLOOKUP(E4,'ALL roll. list'!$B$3:$D$1500,3,0))),"") -> SUKHAVANT SINGH | M4: BIOLOGY | N4: 42
A5: विद्यालय कोड | D5: =IF(D4>=$J$2,"",D4+1) -> 4 | E5: =IF(D5="","",ROW($E$1)+E4) -> 1032422 | F5: =IFERROR(UPPER(IF(D5="","",VLOOKUP(E5,'ALL roll. list'!$B$3:$D$1500,2,0))),"") -> MOHIT | G5: =IFERROR(UPPER(IF(D5="","",VLOOKUP(E5,'ALL roll. list'!$B$3:$D$1500,3,0))),"") -> RAMKUMAR | M5: AGRICULTURE | N5: 84
A6: 1240901 | D6: =IF(D5>=$J$2,"",D5+1) -> 5 | E6: =IF(D6="","",ROW($E$1)+E5) -> 1032423 | F6: =IFERROR(UPPER(IF(D6="","",VLOOKUP(E6,'ALL roll. list'!$B$3:$D$1500,2,0))),"") -> PRACHI | G6: =IFERROR(UPPER(IF(D6="","",VLOOKUP(E6,'ALL roll. list'!$B$3:$D$1500,3,0))),"") -> MAHENDER KUMAR | M6: AG CHEMISTRY | N6: 38
A7: विषय :- | B7: PHYSICS | D7: =IF(D6>=$J$2,"",D6+1) -> 6 | E7: =IF(D7="","",ROW($E$1)+E6) -> 1032424 | F7: =IFERROR(UPPER(IF(D7="","",VLOOKUP(E7,'ALL roll. list'!$B$3:$D$1500,2,0))),"") -> SACHIN | G7: =IFERROR(UPPER(IF(D7="","",VLOOKUP(E7,'ALL roll. list'!$B$3:$D$1500,3,0))),"") -> RAJENDER SINGH | M7: AG BIOLOGY | N7: 39
A8: विषय कोड :- | B8: =IFERROR(TEXT(VLOOKUP(B7,M2:N20,2,0),"00"),"") -> 40 | D8: =IF(D7>=$J$2,"",D7+1) -> 7 | E8: =IF(D8="","",ROW($E$1)+E7) -> 1032425 | F8: =IFERROR(UPPER(IF(D8="","",VLOOKUP(E8,'ALL roll. list'!$B$3:$D$1500,2,0))),"") | G8: =IFERROR(UPPER(IF(D8="","",VLOOKUP(E8,'ALL roll. list'!$B$3:$D$1500,3,0))),"") | M8: INFORMATICS PRACT. | N8: 4
A9: परीक्षक का नाम:- | B9: KALWANT SINGH | D9: =IF(D8>=$J$2,"",D8+1) -> 8 | E9: =IF(D9="","",ROW($E$1)+E8) -> 1032426 | F9: =IFERROR(UPPER(IF(D9="","",VLOOKUP(E9,'ALL roll. list'!$B$3:$D$1500,2,0))),"") | G9: =IFERROR(UPPER(IF(D9="","",VLOOKUP(E9,'ALL roll. list'!$B$3:$D$1500,3,0))),"") | M9: GEOGRAPHY | N9: 14
A10: दिनांक:- | B10: 01.01.2026 | D10: =IF(D9>=$J$2,"",D9+1) -> 9 | E10: =IF(D10="","",ROW($E$1)+E9) -> 1032427 | F10: =IFERROR(UPPER(IF(D10="","",VLOOKUP(E10,'ALL roll. list'!$B$3:$D$1500,2,0))),"") | G10: =IFERROR(UPPER(IF(D10="","",VLOOKUP(E10,'ALL roll. list'!$B$3:$D$1500,3,0))),"") | M10: DRAWING | N10: 17
A11: समय:- | B11: 10.00AM TO 1.00PM | D11: =IF(D10>=$J$2,"",D10+1) -> 10 | E11: =IF(D11="","",ROW($E$1)+E10) -> 1032428 | F11: =IFERROR(UPPER(IF(D11="","",VLOOKUP(E11,'ALL roll. list'!$B$3:$D$1500,2,0))),"") | G11: =IFERROR(UPPER(IF(D11="","",VLOOKUP(E11,'ALL roll. list'!$B$3:$D$1500,3,0))),"") | M11: HOME SCIENCE | N11: 18
A12: BATCH NO. | B12: 1 | D12: =IF(D11>=$J$2,"",D11+1) -> 11 | E12: =IF(D12="","",ROW($E$1)+E11) -> 1032429 | F12: =IFERROR(UPPER(IF(D12="","",VLOOKUP(E12,'ALL roll. list'!$B$3:$D$1500,2,0))),"") | G12: =IFERROR(UPPER(IF(D12="","",VLOOKUP(E12,'ALL roll. list'!$B$3:$D$1500,3,0))),"") | M12: PHYSICS | N12: 40
A13: SENIOR SECONDARY PRACTICAL EXAMINATION - 2026 | D13: =IF(D12>=$J$2,"",D12+1) -> 12 | E13: =IF(D13="","",ROW($E$1)+E12) -> 1032430 | F13: =IFERROR(UPPER(IF(D13="","",VLOOKUP(E13,'ALL roll. list'!$B$3:$D$1500,2,0))),"") | G13: =IFERROR(UPPER(IF(D13="","",VLOOKUP(E13,'ALL roll. list'!$B$3:$D$1500,3,0))),"") | M13: COMPUTER SCIENCE | N13: 3
A14: KALWANT SINGH Lect.Physics Gsss BUGIA MOB.9166949484 | D14: =IF(D13>=$J$2,"",D13+1) -> 13 | E14: =IF(D14="","",ROW($E$1)+E13) -> 1032431 | F14: =IFERROR(UPPER(IF(D14="","",VLOOKUP(E14,'ALL roll. list'!$B$3:$D$1500,2,0))),"") | G14: =IFERROR(UPPER(IF(D14="","",VLOOKUP(E14,'ALL roll. list'!$B$3:$D$1500,3,0))),"") | M14: PSYCHOLOGY | N14: 19
A15: 1. सर्वप्रथम सभी बच्चों के नाम व रोल न. ALL ROLL N. LIST शीट में लिखे | | D15: =IF(D14>=$J$2,"",D14+1) -> 14 | E15: =IF(D15="","",ROW($E$1)+E14) -> 1032432 | F15: =IFERROR(UPPER(IF(D15="","",VLOOKUP(E15,'ALL roll. list'!$B$3:$D$1500,2,0))),"") | G15: =IFERROR(UPPER(IF(D15="","",VLOOKUP(E15,'ALL roll. list'!$B$3:$D$1500,3,0))),"")
A16: 2.अब सभी एंट्री मास्टर शीट में विद्यालय का नाम , कोड,दिनांक,समय,लिखे | D16: =IF(D15>=$J$2,"",D15+1) -> 15 | E16: =IF(D16="","",ROW($E$1)+E15) -> 1032433 | F16: =IFERROR(UPPER(IF(D16="","",VLOOKUP(E16,'ALL roll. list'!$B$3:$D$1500,2,0))),"") | G16: =IFERROR(UPPER(IF(D16="","",VLOOKUP(E16,'ALL roll. list'!$B$3:$D$1500,3,0))),"")
A17: 3. मास्टर शीट में सभी WHITE cell में एंट्री करे | | D17: =IF(D16>=$J$2,"",D16+1) -> 16 | E17: =IF(D17="","",ROW($E$1)+E16) -> 1032434 | F17: =IFERROR(UPPER(IF(D17="","",VLOOKUP(E17,'ALL roll. list'!$B$3:$D$1500,2,0))),"") | G17: =IFERROR(UPPER(IF(D17="","",VLOOKUP(E17,'ALL roll. list'!$B$3:$D$1500,3,0))),"")
A18: 4. बैच न. और इस बैच में विद्यार्थी का प्रारम्भिक रोल न. लिखे | D18: =IF(D17>=$J$2,"",D17+1) -> 17 | E18: =IF(D18="","",ROW($E$1)+E17) -> 1032435 | F18: =IFERROR(UPPER(IF(D18="","",VLOOKUP(E18,'ALL roll. list'!$B$3:$D$1500,2,0))),"") | G18: =IFERROR(UPPER(IF(D18="","",VLOOKUP(E18,'ALL roll. list'!$B$3:$D$1500,3,0))),"")
A19: Series Roll no. स्वत: आ जायेंगे यदि रोल न. Miss है तो मैनुअल लिखे | | D19: =IF(D18>=$J$2,"",D18+1) -> 18 | E19: =IF(D19="","",ROW($E$1)+E18) -> 1032436 | F19: =IFERROR(UPPER(IF(D19="","",VLOOKUP(E19,'ALL roll. list'!$B$3:$D$1500,2,0))),"") | G19: =IFERROR(UPPER(IF(D19="","",VLOOKUP(E19,'ALL roll. list'!$B$3:$D$1500,3,0))),"")
A20: 5. अब Attendace Sheet व संबंधित विषय की MARK DISTRIBUTION | D20: =IF(D19>=$J$2,"",D19+1) -> 19 | E20: =IF(D20="","",ROW($E$1)+E19) -> 1032437 | F20: =IFERROR(UPPER(IF(D20="","",VLOOKUP(E20,'ALL roll. list'!$B$3:$D$1500,2,0))),"") | G20: =IFERROR(UPPER(IF(D20="","",VLOOKUP(E20,'ALL roll. list'!$B$3:$D$1500,3,0))),"")
A21: SHEET ऑटो रेडी है | D21: =IF(D20>=$J$2,"",D20+1) -> 20 | E21: =IF(D21="","",ROW($E$1)+E20) -> 1032438 | F21: =IFERROR(UPPER(IF(D21="","",VLOOKUP(E21,'ALL roll. list'!$B$3:$D$1500,2,0))),"") | G21: =IFERROR(UPPER(IF(D21="","",VLOOKUP(E21,'ALL roll. list'!$B$3:$D$1500,3,0))),"")
A22: 6. यदि किसी संकाय में बैच न. में छात्र संख्या समान है तो केवल | D22: =IF(D21>=$J$2,"",D21+1) -> 21 | E22: =IF(D22="","",ROW($E$1)+E21) -> 1032439 | F22: =IFERROR(UPPER(IF(D22="","",VLOOKUP(E22,'ALL roll. list'!$B$3:$D$1500,2,0))),"") | G22: =IFERROR(UPPER(IF(D22="","",VLOOKUP(E22,'ALL roll. list'!$B$3:$D$1500,3,0))),"")
A23: विषय व दिनांक चेंज कर उपस्थिति और अंक विभाजन प्रपत्र प्रिंट करें | D23: =IF(D22>=$J$2,"",D22+1) -> 22 | E23: =IF(D23="","",ROW($E$1)+E22) -> 1032440 | F23: =IFERROR(UPPER(IF(D23="","",VLOOKUP(E23,'ALL roll. list'!$B$3:$D$1500,2,0))),"") | G23: =IFERROR(UPPER(IF(D23="","",VLOOKUP(E23,'ALL roll. list'!$B$3:$D$1500,3,0))),"")
A24: 7. अब ATTENDACE शीट व विषय की अंक विभाजित शीट का प्रिंट लेकर NEXT बैच की एंट्री करे | | D24: =IF(D23>=$J$2,"",D23+1) -> 23 | E24: =IF(D24="","",ROW($E$1)+E23) -> 1032441 | F24: =IFERROR(UPPER(IF(D24="","",VLOOKUP(E24,'ALL roll. list'!$B$3:$D$1500,2,0))),"") | G24: =IFERROR(UPPER(IF(D24="","",VLOOKUP(E24,'ALL roll. list'!$B$3:$D$1500,3,0))),"")
D25: =IF(D24>=$J$2,"",D24+1) -> 24 | E25: =IF(D25="","",ROW($E$1)+E24) -> 1032442 | F25: =IFERROR(UPPER(IF(D25="","",VLOOKUP(E25,'ALL roll. list'!$B$3:$D$1500,2,0))),"") | G25: =IFERROR(UPPER(IF(D25="","",VLOOKUP(E25,'ALL roll. list'!$B$3:$D$1500,3,0))),"")
A26: 8. एक बैच में अधिकतम 25 विद्यार्थियों की सूचि तैयार होगी | D26: =IF(D25>=$J$2,"",D25+1) -> 25 | E26: =IF(D26="","",ROW($E$1)+E25) -> 1032443 | F26: =IFERROR(UPPER(IF(D26="","",VLOOKUP(E26,'ALL roll. list'!$B$3:$D$1500,2,0))),"") | G26: =IFERROR(UPPER(IF(D26="","",VLOOKUP(E26,'ALL roll. list'!$B$3:$D$1500,3,0))),"")

Sheet Attendance Sheet
A1: माध्यमिक शिक्षा बोर्ड, राजस्थान, अजमेर
A2: =MASTER!A2 -> उच्च माध्यमिक प्रायोगिक परीक्षा - 2026
A3: परीक्षा उपस्थिति पत्रक (सभी प्रायोगिक विषयों के लिए)
A4: ="विद्यालय का नाम-"&MASTER!A4&" " -> विद्यालय का नाम-GOVT.SR.SEC.SCH., BUGIA SRI VIJAYNAGAR , GANGANAGAR | E4: विद्यालय कोड- | F4: =MASTER!A6 -> 1240901
A5: विषय - | B5: =" "&MASTER!B7&" " -> PHYSICS | D5: ="विषय कोड -"&TEXT(MASTER!B8&" ","00") -> विषय कोड -40 | E5: परीक्षक का नाम- | F5: =CONCATENATE(MASTER!B9) -> KALWANT SINGH
A6: दिनांक- | B6: =TEXT(CONCATENATE(MASTER!B10),"DD-MM-YY") -> 01.01.2026 | D6: ="समय- "&MASTER!B11&" " -> समय- 10.00AM TO 1.00PM | F6: ="बैच नं.-"&MASTER!B12&" " -> बैच नं.-1
A7: क्रम सं. | B7: रोल नं. | C7: उ.पु- क्रमांक | D7: परीक्षार्थी का नाम | E7: पिता का नाम | F7: परीक्षार्थी के हस्ताक्षर | G7: वि.वि.
A8: =IF(MASTER!E2="","",ROWS(MASTER!$E$2:E2)) -> 1 | B8: =" "&MASTER!E2&" " -> 1032419 | D8: =" "&MASTER!F2&" " -> MANNAT | E8: =" "&MASTER!G2&" " -> RAMESH KUMAR
A9: =IF(MASTER!E3="","",ROWS(MASTER!$E$2:E3)) -> 2 | B9: =" "&MASTER!E3&" " -> 1032420 | D9: =" "&MASTER!F3&" " -> MANPREET KAUR | E9: =" "&MASTER!G3&" " -> SUKHDEV
A10: =IF(MASTER!E4="","",ROWS(MASTER!$E$2:E4)) -> 3 | B10: =" "&MASTER!E4&" " -> 1032421 | D10: =" "&MASTER!F4&" " -> MANVEER SINGH | E10: =" "&MASTER!G4&" " -> SUKHAVANT SINGH
A11: =IF(MASTER!E5="","",ROWS(MASTER!$E$2:E5)) -> 4 | B11: =" "&MASTER!E5&" " -> 1032422 | D11: =" "&MASTER!F5&" " -> MOHIT | E11: =" "&MASTER!G5&" " -> RAMKUMAR
A12: =IF(MASTER!E6="","",ROWS(MASTER!$E$2:E6)) -> 5 | B12: =" "&MASTER!E6&" " -> 1032423 | D12: =" "&MASTER!F6&" " -> PRACHI | E12: =" "&MASTER!G6&" " -> MAHENDER KUMAR
A13: =IF(MASTER!E7="","",ROWS(MASTER!$E$2:E7)) -> 6 | B13: =" "&MASTER!E7&" " -> 1032424 | D13: =" "&MASTER!F7&" " -> SACHIN | E13: =" "&MASTER!G7&" " -> RAJENDER SINGH
A14: =IF(MASTER!E8="","",ROWS(MASTER!$E$2:E8)) -> 7 | B14: =" "&MASTER!E8&" " -> 1032425 | D14: =" "&MASTER!F8&" " | E14: =" "&MASTER!G8&" "
A15: =IF(MASTER!E9="","",ROWS(MASTER!$E$2:E9)) -> 8 | B15: =" "&MASTER!E9&" " -> 1032426 | D15: =" "&MASTER!F9&" " | E15: =" "&MASTER!G9&" "
A16: =IF(MASTER!E10="","",ROWS(MASTER!$E$2:E10)) -> 9 | B16: =" "&MASTER!E10&" " -> 1032427 | D16: =" "&MASTER!F10&" " | E16: =" "&MASTER!G10&" "
A17: =IF(MASTER!E11="","",ROWS(MASTER!$E$2:E11)) -> 10 | B17: =" "&MASTER!E11&" " -> 1032428 | D17: =" "&MASTER!F11&" " | E17: =" "&MASTER!G11&" "
A18: =IF(MASTER!E12="","",ROWS(MASTER!$E$2:E12)) -> 11 | B18: =" "&MASTER!E12&" " -> 1032429 | D18: =" "&MASTER!F12&" " | E18: =" "&MASTER!G12&" "
A19: =IF(MASTER!E13="","",ROWS(MASTER!$E$2:E13)) -> 12 | B19: =" "&MASTER!E13&" " -> 1032430 | D19: =" "&MASTER!F13&" " | E19: =" "&MASTER!G13&" "
... A32: =IF(MASTER!E26="","",ROWS(MASTER!$E$2:E26)) -> 25 | B32: =" "&MASTER!E26&" " -> 1032443 | D32: =" "&MASTER!F26&" " | E32: =" "&MASTER!G26&" "
A33: नोट- इस प्रपत्र को विषयवार तैयार करावें | इसकी एक प्रति बाह्रय परीक्षक को दी जावे जिसे वे प्रतिपर्ण के लिफाफे में रखकर बोर्ड को भेजेंगे | एक फोटो प्रति विद्यालय रिकॉर्ड में रखी जावे | आवश्यकतानुसार फोटो प्रतियाँ करवाकर प्रयुक्त किया जावे |
A34: ह. बाह्रय परीक्षक | F34: ह. शालाप्रधान

Sheet PHY
A1: BOARD OF SECONDARY EDUCATION, RAJASTHAN, AJMER
A2: =MASTER!A13 -> SENIOR SECONDARY PRACTICAL EXAMINATION - 2026
A3: PHYSICS (CODE No.-40)
A4: Name of School :: | C4: =MASTER!$A$4 -> GOVT.SR.SEC.SCH., BUGIA SRI VIJAYNAGAR , GANGANAGAR | I4: School Code- | J4: =MASTER!$A$6 -> 1240901
A5: Batch No. :: | C5: =" "&MASTER!B12&" " -> 1 | D5: Date and Time of Examination:: | G5: =TEXT(" "&MASTER!B10&" ","DD-MM-YY") -> 01.01.2026 | I5: =" "&MASTER!B11&" " -> 10.00AM TO 1.00PM
A6: DISTRIBUTION OF MARKS IN DETAIL
A7: S.No. | B7: Roll No. | C7: Marks of Major Expriment | D7: Marks of Activities | G7: Project / Demostration | H7: Marks of Practical Record | I7: Marks of Viva voce | J7: Total
D8: A | E8: B | F8: TOTAL
B9: Max.Marks | C9: 10 | D9: 4 | E9: 4 | F9: 8 | G9: 4 | H9: 4 | I9: 4 | J9: =SUM(C9,F9:I9) -> 30
A10: 1 | B10: 2 | C10: 3 | D10: 4 | E10: 5 | F10: 6 | G10: 7 | H10: 8 | I10: 9 | J10: 10
A11: =IF(MASTER!E2="","",ROWS(MASTER!$E$2:E2)) -> 1 | B11: =IF('Attendance Sheet'!B8="","",'Attendance Sheet'!B8) -> 1032419 | F11: =IF(D11="","",SUM(D11:E11)) | J11: =IF(C11="","",SUM(E11,F11:I11))
A12: =IF(MASTER!E3="","",ROWS(MASTER!$E$2:E3)) -> 2 | B12: =IF('Attendance Sheet'!B9="","",'Attendance Sheet'!B9) -> 1032420 | F12: =IF(D12="","",SUM(D12:E12)) | J12: =IF(C12="","",SUM(E12,F12:I12))
A13: =IF(MASTER!E4="","",ROWS(MASTER!$E$2:E4)) -> 3 | B13: =IF('Attendance Sheet'!B10="","",'Attendance Sheet'!B10) -> 1032421 | F13: =IF(D13="","",SUM(D13:E13)) | J13: =IF(C13="","",SUM(E13,F13:I13))
A14: =IF(MASTER!E5="","",ROWS(MASTER!$E$2:E5)) -> 4 | B14: =IF('Attendance Sheet'!B11="","",'Attendance Sheet'!B11) -> 1032422 | F14: =IF(D14="","",SUM(D14:E14)) | J14: =IF(C14="","",SUM(E14,F14:I14))
A15: =IF(MASTER!E6="","",ROWS(MASTER!$E$2:E6)) -> 5 | B15: =IF('Attendance Sheet'!B12="","",'Attendance Sheet'!B12) -> 1032423 | F15: =IF(D15="","",SUM(D15:E15)) | J15: =IF(C15="","",SUM(E15,F15:I15))
A16: =IF(MASTER!E7="","",ROWS(MASTER!$E$2:E7)) -> 6 | B16: =IF('Attendance Sheet'!B13="","",'Attendance Sheet'!B13) -> 1032424 | F16: =IF(D16="","",SUM(D16:E16)) | J16: =IF(C16="","",SUM(E16,F16:I16))
A17: =IF(MASTER!E8="","",ROWS(MASTER!$E$2:E8)) -> 7 | B17: =IF('Attendance Sheet'!B14="","",'Attendance Sheet'!B14) -> 1032425 | F17: =IF(D17="","",SUM(D17:E17)) | J17: =IF(C17="","",SUM(E17,F17:I17))
A18: =IF(MASTER!E9="","",ROWS(MASTER!$E$2:E9)) -> 8 | B18: =IF('Attendance Sheet'!B15="","",'Attendance Sheet'!B15) -> 1032426 | F18: =IF(D18="","",SUM(D18:E18)) | J18: =IF(C18="","",SUM(E18,F18:I18))
A19: =IF(MASTER!E10="","",ROWS(MASTER!$E$2:E10)) -> 9 | B19: =IF('Attendance Sheet'!B16="","",'Attendance Sheet'!B16) -> 1032427 | F19: =IF(D19="","",SUM(D19:E19)) | J19: =IF(C19="","",SUM(E19,F19:I19))
A20: =IF(MASTER!E11="","",ROWS(MASTER!$E$2:E11)) -> 10 | B20: =IF('Attendance Sheet'!B17="","",'Attendance Sheet'!B17) -> 1032428 | F20: =IF(D20="","",SUM(D20:E20)) | J20: =IF(C20="","",SUM(E20,F20:I20))
A21: =IF(MASTER!E12="","",ROWS(MASTER!$E$2:E12)) -> 11 | B21: =IF('Attendance Sheet'!B18="","",'Attendance Sheet'!B18) -> 1032429 | F21: =IF(D21="","",SUM(D21:E21)) | J21: =IF(C21="","",SUM(E21,F21:I21))
A22: =IF(MASTER!E13="","",ROWS(MASTER!$E$2:E13)) -> 12 | B22: =IF('Attendance Sheet'!B19="","",'Attendance Sheet'!B19) -> 1032430 | F22: =IF(D22="","",SUM(D22:E22)) | J22: =IF(C22="","",SUM(E22,F22:I22))
... A35: =IF(MASTER!E26="","",ROWS(MASTER!$E$2:E26)) -> 25 | B35: =IF('Attendance Sheet'!B32="","",'Attendance Sheet'!B32) -> 1032443 | F35: =IF(D35="","",SUM(D35:E35)) | J35: =IF(C35="","",SUM(E35,F35:I35))
A36: Declaration : Distribution of seats and experiments to candidates have been done by lot in my presence.
E38: Signature of Examiner | G38: ………………………………………
A39: Date:- | C39: =G5 -> 01.01.2026 | E39: Name of Examiner | G39: ………………………………………
E40: Examiner No. | G40: ………………………………………

Sheet CHEM
A1: BOARD OF SECONDARY EDUCATION, RAJASTHAN, AJMER
A2: =MASTER!A13 -> SENIOR SECONDARY PRACTICAL EXAMINATION - 2026
A3: CHEMISTRY (CODE No.-41)
A4: Name of School :: | D4: =MASTER!A4 -> GOVT.SR.SEC.SCH., BUGIA SRI VIJAYNAGAR , GANGANAGAR | K4: School Code | M4: =MASTER!A6 -> 1240901
A5: Batch No. :: | D5: =" "&MASTER!B12&" " -> 1 | F5: Date and Time of Examination:: | J5: =TEXT(" "&MASTER!B10&" ","DD-MM-YY") -> 01.01.2026 | L5: =" "&MASTER!B11&" " -> 10.00AM TO 1.00PM
A6: DISTRIBUTION OF MARKS IN DETAIL
A7: S.No. | B7: Seat No. | C7: Roll No. | D7: Volumetric Exercise | E7: Marks | F7: Qualitative Exercise | H7: Marks | I7: Org. Exercise Functional Gp Preparation Food Test | J7: Marks | K7: Content Based Experiment | L7: Record Marks | M7: Viva Marks | N7: Total Marks
D8: Correct Result | F8: Anion | G8: Cation
C9: Max.Marks | E9: 10 | H9: 6 | J9: 4 | K9: 5 | L9: 3 | M9: 2 | N9: =SUM(E9,H9,J9:M9) -> 30
A10: 1 | B10: 2 | C10: 3 | D10: 4 | E10: 5 | F10: 6 | G10: 7 | H10: 8 | I10: 9 | J10: 10 | K10: 11 | L10: 12 | M10: 13 | N10: 14
A11: =IF(MASTER!E2="","",ROWS(MASTER!$E$2:E2)) -> 1 | C11: =" "&'Attendance Sheet'!B8&" " -> 1032419 | N11: =IF(E11="","",SUM(E11,H11,J11,K11,L11,M11))
A12: =IF(MASTER!E3="","",ROWS(MASTER!$E$2:E3)) -> 2 | C12: =" "&'Attendance Sheet'!B9&" " -> 1032420 | N12: =IF(E12="","",SUM(E12,H12,J12,K12,L12,M12))
A13: =IF(MASTER!E4="","",ROWS(MASTER!$E$2:E4)) -> 3 | C13: =" "&'Attendance Sheet'!B10&" " -> 1032421 | N13: =IF(E13="","",SUM(E13,H13,J13,K13,L13,M13))
A14: =IF(MASTER!E5="","",ROWS(MASTER!$E$2:E5)) -> 4 | C14: =" "&'Attendance Sheet'!B11&" " -> 1032422 | N14: =IF(E14="","",SUM(E14,H14,J14,K14,L14,M14))
A15: =IF(MASTER!E6="","",ROWS(MASTER!$E$2:E6)) -> 5 | C15: =" "&'Attendance Sheet'!B12&" " -> 1032423 | N15: =IF(E15="","",SUM(E15,H15,J15,K15,L15,M15))
A16: =IF(MASTER!E7="","",ROWS(MASTER!$E$2:E7)) -> 6 | C16: =" "&'Attendance Sheet'!B13&" " -> 1032424 | N16: =IF(E16="","",SUM(E16,H16,J16,K16,L16,M16))
A17: =IF(MASTER!E8="","",ROWS(MASTER!$E$2:E8)) -> 7 | C17: =" "&'Attendance Sheet'!B14&" " -> 1032425 | N17: =IF(E17="","",SUM(E17,H17,J17,K17,L17,M17))
A18: =IF(MASTER!E9="","",ROWS(MASTER!$E$2:E9)) -> 8 | C18: =" "&'Attendance Sheet'!B15&" " -> 1032426 | N18: =IF(E18="","",SUM(E18,H18,J18,K18,L18,M18))
A19: =IF(MASTER!E10="","",ROWS(MASTER!$E$2:E10)) -> 9 | C19: =" "&'Attendance Sheet'!B16&" " -> 1032427 | N19: =IF(E19="","",SUM(E19,H19,J19,K19,L19,M19))
A20: =IF(MASTER!E11="","",ROWS(MASTER!$E$2:E11)) -> 10 | C20: =" "&'Attendance Sheet'!B17&" " -> 1032428 | N20: =IF(E20="","",SUM(E20,H20,J20,K20,L20,M20))
A21: =IF(MASTER!E12="","",ROWS(MASTER!$E$2:E12)) -> 11 | C21: =" "&'Attendance Sheet'!B18&" " -> 1032429 | N21: =IF(E21="","",SUM(E21,H21,J21,K21,L21,M21))
A22: =IF(MASTER!E13="","",ROWS(MASTER!$E$2:E13)) -> 12 | C22: =" "&'Attendance Sheet'!B19&" " -> 1032430 | N22: =IF(E22="","",SUM(E22,H22,J22,K22,L22,M22))
... A35: =IF(MASTER!E26="","",ROWS(MASTER!$E$2:E26)) -> 25 | C35: =" "&'Attendance Sheet'!B32&" " -> 1032443 | N35: =IF(E35="","",SUM(E35,H35,J35,K35,L35,M35))
A36: Declaration : Distribution of seats and experiments to candidates have been done by lot in my presence.
H38: Signature of Examiner | K38: ………………………………………
A39: Date:- | C39: =J5 -> 01.01.2026 | H39: Name of Examiner | K39: ………………………………………
H40: Examiner No. | K40: ………………………………………

Sheet BIO
A1: BOARD OF SECONDARY EDUCATION, RAJASTHAN, AJMER
A2: =MASTER!A13 -> SENIOR SECONDARY PRACTICAL EXAMINATION - 2026
A3: BIOLOGY (CODE No.-42)
A4: Name of School :: | C4: =MASTER!A4 -> GOVT.SR.SEC.SCH., BUGIA SRI VIJAYNAGAR , GANGANAGAR | Q4: School Code | S4: =MASTER!A6 -> 1240901
A5: Batch No. :: | C5: =" "&MASTER!B12&" " -> 1 | L5: Date and Time of Examination:: | Q5: =TEXT(" "&MASTER!B10&" ","DD-MM-YY") -> 01.01.2026 | T5: =" "&MASTER!B11&" " -> 10.00AM TO 1.00PM
A6: SCORING TABLE
A7: Q.No. | B7: Value Point over which are marks distributed | C7: Roll No. Break up of Marks | D7: =" "&'Attendance Sheet'!B8&" " -> 1032419 | E7: =" "&'Attendance Sheet'!B9&" " -> 1032420 | F7: =" "&'Attendance Sheet'!B10&" " -> 1032421 | G7: =" "&'Attendance Sheet'!B11&" " -> 1032422 | H7: =" "&'Attendance Sheet'!B12&" " -> 1032423 | I7: =" "&'Attendance Sheet'!B13&" " -> 1032424 | J7: =" "&'Attendance Sheet'!B14&" " -> 1032425 | K7: =" "&'Attendance Sheet'!B15&" " -> 1032426 | L7: =" "&'Attendance Sheet'!B16&" " -> 1032427 | M7: =" "&'Attendance Sheet'!B17&" " -> 1032428 | N7: =" "&'Attendance Sheet'!B18&" " -> 1032429 | O7: =" "&'Attendance Sheet'!B19&" " -> 1032430 | P7: =" "&'Attendance Sheet'!B20&" " -> 1032431 | Q7: =" "&'Attendance Sheet'!B21&" " -> 1032432 | R7: =" "&'Attendance Sheet'!B22&" " -> 1032433 | S7: =" "&'Attendance Sheet'!B23&" " -> 1032434 | T7: =" "&'Attendance Sheet'!B24&" " -> 1032435 | U7: =" "&'Attendance Sheet'!B25&" " -> 1032436 | V7: =" "&'Attendance Sheet'!B26&" " -> 1032437 | W7: =" "&'Attendance Sheet'!B27&" " -> 1032438
A8: 1A | B8: BOTANY MEJOR EXPERIMENT
B9: (i) Aim | C9: 0.5
B10: (ii) Principle | C10: 1
B11: (iii) Requirement | C11: 0.5
B12: (iv) Procedure | C12: 1
B13: (v) Observation | C13: 1
B14: (vi) One Precation | C14: 0
B15: Total | C15: =SUM(C9:C14) -> 4 | D15: =IF(D9="","",SUM(D9:D14)) | E15: =IF(E9="","",SUM(E9:E14)) | F15: =IF(F9="","",SUM(F9:F14)) | G15: =IF(G9="","",SUM(G9:G14)) | H15: =IF(H9="","",SUM(H9:H14)) | I15: =IF(I9="","",SUM(I9:I14)) | J15: =IF(J9="","",SUM(J9:J14)) | K15: =IF(K9="","",SUM(K9:K14)) | ... W15: =IF(W9="","",SUM(W9:W14))
A16: 1B | B16: ZOOLOGY MEJOR EXPERIMENT
B17: (i) Aim | C17: 0.5
B18: (ii) Principle | C18: 1
B19: (iii) Requirement | C19: 0.5
B20: (iv) Procedure | C20: 1
B21: (v) Observation | C21: 1
B22: (vi) One Precation
B23: Total | C23: =SUM(C17:C21) -> 4 | D23: =IF(D9="","",SUM(C14:C21)) | E23: =IF(E9="","",SUM(D14:D21)) | F23: =IF(F9="","",SUM(E14:E21)) | G23: =IF(G9="","",SUM(F14:F21)) | H23: =IF(H9="","",SUM(G14:G21)) | I23: =IF(I9="","",SUM(H14:H21)) | J23: =IF(J9="","",SUM(I14:I21)) | K23: =IF(K9="","",SUM(J14:J21)) | ... W23: =IF(W9="","",SUM(V14:V21))
A24: 2A | B24: MINOR EXERCISE (BOTANY)
B25: (i) Identification | C25: 0.5
B26: (ii) Labelled Diagram | C26: 0.5
B27: (iii) Four Question = .5*4 | C27: 2
B28: Total | C28: =SUM(C25:C27) -> 3 | D28: =IF(D9="","",SUM(D25:D27)) | E28: =IF(E9="","",SUM(E25:E27)) | F28: =IF(F9="","",SUM(F25:F27)) | G28: =IF(G9="","",SUM(G25:G27)) | H28: =IF(H9="","",SUM(H25:H27)) | I28: =IF(I9="","",SUM(I25:I27)) | J28: =IF(J9="","",SUM(J25:J27)) | K28: =IF(K9="","",SUM(K25:K27)) | ... W28: =IF(W9="","",SUM(W25:W27))
A29: 2B | B29: MINOR EXERCISE (ZOOLOGY)
B30: (i) Identification | C30: 0.5
B31: (ii) Labelled Diagram | C31: 0.5
B32: (iii) Four Question = .5*4 | C32: 2
B33: OR
B34: DESCRIPTION OF GENETIC EXPERIMENT
B35: (i) For correct solution of genetic problem | C35: 2
B36: (ii) Result of genetic problem | C36: 1
B37: OR
B38: DESCRIPTION OF BLOOD SLIDE/ BLOOD GROUP
B39: (i) For suitable slide formation/ Blood group examine | C39: 1
B40: (ii) Labelled Diagram | C40: 1
B41: (iii) Four Question = .5*4 | C41: 1
B42: Total | C42: 3 | D42: =IF(D30&D35&D39="","",SUM(D30:D41)) | E42: =IF(E30&E35&E39="","",SUM(E30:E41)) | F42: =IF(F30&F35&F39="","",SUM(F30:F41)) | G42: =IF(G30&G35&G39="","",SUM(G30:G41)) | H42: =IF(H30&H35&H39="","",SUM(H30:H41)) | I42: =IF(I30&I35&I39="","",SUM(I30:I41)) | J42: =IF(J30&J35&J39="","",SUM(J30:J41)) | K42: =IF(K30&K35&K39="","",SUM(K30:K41)) | ... W42: =IF(W30&W35&W39="","",SUM(W30:W41))
A43: 3 | B43: SPOTS (1-6)
B44: Botany 1x3 | C44: 3
B45: Zoology 1x3 | C45: 3
B46: Total | C46: =SUM(C44:C45) -> 6 | D46: =IF(D44="","",SUM(D44:D45)) | E46: =IF(E44="","",SUM(E44:E45)) | F46: =IF(F44="","",SUM(F44:F45)) | G46: =IF(G44="","",SUM(G44:G45)) | H46: =IF(H44="","",SUM(H44:H45)) | I46: =IF(I44="","",SUM(I44:I45)) | J46: =IF(J44="","",SUM(J44:J45)) | K46: =IF(K44="","",SUM(K44:K45)) | ... W46: =IF(W44="","",SUM(W44:W45))
A47: 4 | B47: INVESTIGATORY PROJECT
B48: (i) Project Presentation | C48: 2
B49: (ii) Related Materials | C49: 1
B50: (iii) Viva based on Project | C50: 1
B51: Total | C51: =SUM(C48:C50) -> 4 | D51: =IF(D48="","",SUM(D48:D50)) | E51: =IF(E48="","",SUM(E48:E50)) | F51: =IF(F48="","",SUM(F48:F50)) | G51: =IF(G48="","",SUM(G48:G50)) | H51: =IF(H48="","",SUM(H48:H50)) | I51: =IF(I48="","",SUM(I48:I50)) | J51: =IF(J48="","",SUM(J48:J50)) | K51: =IF(K48="","",SUM(K48:K50)) | ... W51: =IF(W48="","",SUM(W48:W50))
A52: 5 | B52: PRACTICAL RECORD
B53: (i) Systematic Recording | C53: 1.5
B54: (ii) Labelled Diagram | C54: 1.5
B55: (iii) Complete and neatness of Record | C55: 1
B56: Total | C56: =SUM(C53:C55) -> 4 | D56: =IF(D53="","",SUM(D53:D55)) | E56: =IF(E53="","",SUM(E53:E55)) | F56: =IF(F53="","",SUM(F53:F55)) | G56: =IF(G53="","",SUM(G53:G55)) | H56: =IF(H53="","",SUM(H53:H55)) | I56: =IF(I53="","",SUM(I53:I55)) | J56: =IF(J53="","",SUM(J53:J55)) | K56: =IF(K53="","",SUM(K53:K55)) | ... W56: =IF(W53="","",SUM(W53:W55))
A57: 6 | B57: VIVA VOCE
B58: (i) 4 Answers (2 Botany + 2 Zoology) 0.5x4 | C58: 2
B59: Total | C59: =SUM(C58) -> 2 | D59: =IF(D58="","",SUM(D58)) | E59: =IF(E58="","",SUM(E58)) | F59: =IF(F58="","",SUM(F58)) | G59: =IF(G58="","",SUM(G58)) | H59: =IF(H58="","",SUM(H58)) | I59: =IF(I58="","",SUM(I58)) | J59: =IF(J58="","",SUM(J58)) | K59: =IF(K58="","",SUM(K58)) | ... W59: =IF(W58="","",SUM(W58))
A60: Grand Total | C60: =SUM(C15,C23,C28,C42,C46,C51,C56,C59) -> 30 | D60: =IF(D58="","",SUM(D15,D23,D28,D42,D46,D51,D56,D59)) | E60: =IF(E58="","",SUM(E15,E23,E28,E42,E46,E51,E56,E59)) | F60: =IF(F58="","",SUM(F15,F23,F28,F42,F46,F51,F56,F59)) | G60: =IF(G58="","",SUM(G15,G23,G28,G42,G46,G51,G56,G59)) | H60: =IF(H58="","",SUM(H15,H23,H28,H42,H46,H51,H56,H59)) | I60: =IF(I58="","",SUM(I15,I23,I28,I42,I46,I51,I56,I59)) | J60: =IF(J58="","",SUM(J15,J23,J28,J42,J46,J51,J56,J59)) | K60: =IF(K58="","",SUM(K15,K23,K28,K42,K46,K51,K56,K59)) | ... W60: =IF(W58="","",SUM(W15,W23,W28,W42,W46,W51,W56,W59))
A62: Declaration : Distribution of seats and experiments to candidates have been done by lot in my presence.
M64: Signature of Examiner | R64: ………………………………………
B65: ="DATE-"&TEXT(MASTER!B10&" ","dd-mm-yy") -> DATE-01.01.2026 | M65: Name of Examiner | R65: ………………………………………
M66: Examiner No. | R66: ………………………………………

Sheet AGRI
A1: मध्यमिक शिक्षा बोर्ड राजस्थान, अजमेर
A2: =MASTER!A13&" AGRICULTURE SCIENCE (CODE NO.84)" -> SENIOR SECONDARY PRACTICAL EXAMINATION - 2026 AGRICULTURE SCIENCE (CODE NO.84)
A3: विद्यालय का नाम- | C3: =MASTER!A4 -> GOVT.SR.SEC.SCH., BUGIA SRI VIJAYNAGAR , GANGANAGAR | K3: विद्यालय का कोड - | N3: =MASTER!A6 -> 1240901
A4: दिनांक - | C4: =TEXT(" "&MASTER!B10&" ","DD-MM-YY") -> 01.01.2026 | D4: समय- | E4: =" "&MASTER!B11&" " -> 10.00AM TO 1.00PM | I4: दल क्रमांक- | L4: =" "&MASTER!B12&" " -> 1
A5: प्रत्येक परीक्षार्थी को प्रत्येक गतिविधि में प्राप्त अंको का विस्तृत विवरण - पत्रक
A6: क्रम सं. | B6: नामांक | C6: परीक्षार्थी का नाम | D6: पिता का नाम | E6: प्रश्न क्रमांक | F6: मुख्य कार्य | I6: गौण कार्य | L6: प्रादर्श | M6: शैक्षिक भ्रमण का प्रतिवेदन | N6: संग्रह | O6: प्रायोगिक अभिलेख | P6: मौखिक परीक्षा | Q6: कुल योग
F7: I | G7: II | H7: III | I7: I | J7: II | K7: III
E8: पूर्णांक | F8: 3 | G8: 3 | H8: 3 | I8: 2 | J8: 2 | K8: 2 | L8: 6 | M8: 2 | N8: 2 | O8: 3 | P8: 2 | Q8: =SUM(F8:P8) -> 30
A9: =IF(MASTER!E2="","",ROWS(MASTER!$E$2:E2)) -> 1 | B9: =" "&'Attendance Sheet'!B8&" " -> 1032419 | C9: =" "&'Attendance Sheet'!D8&" " -> MANNAT | D9: =" "&'Attendance Sheet'!E8&" " -> RAMESH KUMAR | Q9: =IF(F9="","",SUM(F9:P9))
A10: =IF(MASTER!E3="","",ROWS(MASTER!$E$2:E3)) -> 2 | B10: =" "&'Attendance Sheet'!B9&" " -> 1032420 | C10: =" "&'Attendance Sheet'!D9&" " -> MANPREET KAUR | D10: =" "&'Attendance Sheet'!E9&" " -> SUKHDEV | Q10: =IF(F10="","",SUM(F10:P10))
A11: =IF(MASTER!E4="","",ROWS(MASTER!$E$2:E4)) -> 3 | B11: =" "&'Attendance Sheet'!B10&" " -> 1032421 | C11: =" "&'Attendance Sheet'!D10&" " -> MANVEER SINGH | D11: =" "&'Attendance Sheet'!E10&" " -> SUKHAVANT SINGH | Q11: =IF(F11="","",SUM(F11:P11))
A12: =IF(MASTER!E5="","",ROWS(MASTER!$E$2:E5)) -> 4 | B12: =" "&'Attendance Sheet'!B11&" " -> 1032422 | C12: =" "&'Attendance Sheet'!D11&" " -> MOHIT | D12: =" "&'Attendance Sheet'!E11&" " -> RAMKUMAR | Q12: =IF(F12="","",SUM(F12:P12))
A13: =IF(MASTER!E6="","",ROWS(MASTER!$E$2:E6)) -> 5 | B13: =" "&'Attendance Sheet'!B12&" " -> 1032423 | C13: =" "&'Attendance Sheet'!D12&" " -> PRACHI | D13: =" "&'Attendance Sheet'!E12&" " -> MAHENDER KUMAR | Q13: =IF(F13="","",SUM(F13:P13))
A14: =IF(MASTER!E7="","",ROWS(MASTER!$E$2:E7)) -> 6 | B14: =" "&'Attendance Sheet'!B13&" " -> 1032424 | C14: =" "&'Attendance Sheet'!D13&" " -> SACHIN | D14: =" "&'Attendance Sheet'!E13&" " -> RAJENDER SINGH | Q14: =IF(F14="","",SUM(F14:P14))
A15: =IF(MASTER!E8="","",ROWS(MASTER!$E$2:E8)) -> 7 | B15: =" "&'Attendance Sheet'!B14&" " -> 1032425 | C15: =" "&'Attendance Sheet'!D14&" " | D15: =" "&'Attendance Sheet'!E14&" " | Q15: =IF(F15="","",SUM(F15:P15))
A16: =IF(MASTER!E9="","",ROWS(MASTER!$E$2:E9)) -> 8 | B16: =" "&'Attendance Sheet'!B15&" " -> 1032426 | C16: =" "&'Attendance Sheet'!D15&" " | D16: =" "&'Attendance Sheet'!E15&" " | Q16: =IF(F16="","",SUM(F16:P16))
A17: =IF(MASTER!E10="","",ROWS(MASTER!$E$2:E10)) -> 9 | B17: =" "&'Attendance Sheet'!B16&" " -> 1032427 | C17: =" "&'Attendance Sheet'!D16&" " | D17: =" "&'Attendance Sheet'!E16&" " | Q17: =IF(F17="","",SUM(F17:P17))
A18: =IF(MASTER!E11="","",ROWS(MASTER!$E$2:E11)) -> 10 | B18: =" "&'Attendance Sheet'!B17&" " -> 1032428 | C18: =" "&'Attendance Sheet'!D17&" " | D18: =" "&'Attendance Sheet'!E17&" " | Q18: =IF(F18="","",SUM(F18:P18))
A19: =IF(MASTER!E12="","",ROWS(MASTER!$E$2:E12)) -> 11 | B19: =" "&'Attendance Sheet'!B18&" " -> 1032429 | C19: =" "&'Attendance Sheet'!D18&" " | D19: =" "&'Attendance Sheet'!E18&" " | Q19: =IF(F19="","",SUM(F19:P19))
A20: =IF(MASTER!E13="","",ROWS(MASTER!$E$2:E13)) -> 12 | B20: =" "&'Attendance Sheet'!B19&" " -> 1032430 | C20: =" "&'Attendance Sheet'!D19&" " | D20: =" "&'Attendance Sheet'!E19&" " | Q20: =IF(F20="","",SUM(F20:P20))
... A33: =IF(MASTER!E26="","",ROWS(MASTER!$E$2:E26)) -> 25 | B33: =" "&'Attendance Sheet'!B32&" " -> 1032443 | C33: =" "&'Attendance Sheet'!D32&" " | D33: =" "&'Attendance Sheet'!E32&" " | Q33: =IF(F33="","",SUM(F33:P33))
A34: नोट- प्रमाणित किया जाता है कि उपरोक्त अंक मेरे द्वारा प्रदत किये गए | यह प्रपत्र एवं उपस्थिति पत्रक लिफाफा संख्या 15 में रखकर भेजे |
H36: Signature of Examiner | N36: ………………………………………
A37: Date:- | C37: =C4 -> 01.01.2026 | H37: Name of Examiner | N37: ………………………………………
H38: Examiner No. | N38: ………………………………………

Sheet AG CHEM
A1: मध्यमिक शिक्षा बोर्ड राजस्थान, अजमेर
A2: =MASTER!A13&" AGRICULTURE CHEMISTRY (CODE NO."&MASTER!N6&")" -> SENIOR SECONDARY PRACTICAL EXAMINATION - 2026 AGRICULTURE CHEMISTRY (CODE NO.38)
A3: विद्यालय का नाम- | C3: =MASTER!A4 -> GOVT.SR.SEC.SCH., BUGIA SRI VIJAYNAGAR , GANGANAGAR | H3: School Code- | L3: =MASTER!A6 -> 1240901
A4: दिनांक - | C4: =TEXT(" "&MASTER!B10&" ","DD-MM-YY") -> 01.01.2026 | D4: समय- | E4: =" "&MASTER!B11&" " -> 10.00AM TO 1.00PM | H4: दल क्रमांक- | K4: =" "&MASTER!B12&" " -> 1
A5: प्रत्येक परीक्षार्थी को प्रत्येक गतिविधि में प्राप्त अंको का विस्तृत विवरण - पत्रक
A6: क्रम सं. | B6: नामांक | C6: परीक्षार्थी का नाम | D6: पिता का नाम | E6: प्रश्न क्रमांक | F6: 1 | G6: 2 | H6: 3 | I6: 4 | J6: 5 | K6: 6 | L6: 7 प्रायोगिक अभिलेख | M6: 8 मौखिक परीक्षा | N6: कुल योग
E7: पूर्णांक | F7: 3 | G7: 3 | H7: 5 | I7: 5 | J7: 5 | K7: 4 | L7: 3 | M7: 2 | N7: =SUM(F7:M7) -> 30
A8: =IF(MASTER!E2="","",ROWS(MASTER!$E$2:E2)) -> 1 | B8: =" "&'Attendance Sheet'!B8&" " -> 1032419 | C8: =" "&'Attendance Sheet'!D8&" " -> MANNAT | D8: =" "&'Attendance Sheet'!E8&" " -> RAMESH KUMAR | N8: =IF(F8="","",SUM(F8:M8))
A9: =IF(MASTER!E3="","",ROWS(MASTER!$E$2:E3)) -> 2 | B9: =" "&'Attendance Sheet'!B9&" " -> 1032420 | C9: =" "&'Attendance Sheet'!D9&" " -> MANPREET KAUR | D9: =" "&'Attendance Sheet'!E9&" " -> SUKHDEV | N9: =IF(F9="","",SUM(F9:M9))
A10: =IF(MASTER!E4="","",ROWS(MASTER!$E$2:E4)) -> 3 | B10: =" "&'Attendance Sheet'!B10&" " -> 1032421 | C10: =" "&'Attendance Sheet'!D10&" " -> MANVEER SINGH | D10: =" "&'Attendance Sheet'!E10&" " -> SUKHAVANT SINGH | N10: =IF(F10="","",SUM(F10:M10))
A11: =IF(MASTER!E5="","",ROWS(MASTER!$E$2:E5)) -> 4 | B11: =" "&'Attendance Sheet'!B11&" " -> 1032422 | C11: =" "&'Attendance Sheet'!D11&" " -> MOHIT | D11: =" "&'Attendance Sheet'!E11&" " -> RAMKUMAR | N11: =IF(F11="","",SUM(F11:M11))
A12: =IF(MASTER!E6="","",ROWS(MASTER!$E$2:E6)) -> 5 | B12: =" "&'Attendance Sheet'!B12&" " -> 1032423 | C12: =" "&'Attendance Sheet'!D12&" " -> PRACHI | D12: =" "&'Attendance Sheet'!E12&" " -> MAHENDER KUMAR | N12: =IF(F12="","",SUM(F12:M12))
A13: =IF(MASTER!E7="","",ROWS(MASTER!$E$2:E7)) -> 6 | B13: =" "&'Attendance Sheet'!B13&" " -> 1032424 | C13: =" "&'Attendance Sheet'!D13&" " -> SACHIN | D13: =" "&'Attendance Sheet'!E13&" " -> RAJENDER SINGH | N13: =IF(F13="","",SUM(F13:M13))
A14: =IF(MASTER!E8="","",ROWS(MASTER!$E$2:E8)) -> 7 | B14: =" "&'Attendance Sheet'!B14&" " -> 1032425 | C14: =" "&'Attendance Sheet'!D14&" " | D14: =" "&'Attendance Sheet'!E14&" " | N14: =IF(F14="","",SUM(F14:M14))
A15: =IF(MASTER!E9="","",ROWS(MASTER!$E$2:E9)) -> 8 | B15: =" "&'Attendance Sheet'!B15&" " -> 1032426 | C15: =" "&'Attendance Sheet'!D15&" " | D15: =" "&'Attendance Sheet'!E15&" " | N15: =IF(F15="","",SUM(F15:M15))
A16: =IF(MASTER!E10="","",ROWS(MASTER!$E$2:E10)) -> 9 | B16: =" "&'Attendance Sheet'!B16&" " -> 1032427 | C16: =" "&'Attendance Sheet'!D16&" " | D16: =" "&'Attendance Sheet'!E16&" " | N16: =IF(F16="","",SUM(F16:M16))
A17: =IF(MASTER!E11="","",ROWS(MASTER!$E$2:E11)) -> 10 | B17: =" "&'Attendance Sheet'!B17&" " -> 1032428 | C17: =" "&'Attendance Sheet'!D17&" " | D17: =" "&'Attendance Sheet'!E17&" " | N17: =IF(F17="","",SUM(F17:M17))
A18: =IF(MASTER!E12="","",ROWS(MASTER!$E$2:E12)) -> 11 | B18: =" "&'Attendance Sheet'!B18&" " -> 1032429 | C18: =" "&'Attendance Sheet'!D18&" " | D18: =" "&'Attendance Sheet'!E18&" " | N18: =IF(F18="","",SUM(F18:M18))
A19: =IF(MASTER!E13="","",ROWS(MASTER!$E$2:E13)) -> 12 | B19: =" "&'Attendance Sheet'!B19&" " -> 1032430 | C19: =" "&'Attendance Sheet'!D19&" " | D19: =" "&'Attendance Sheet'!E19&" " | N19: =IF(F19="","",SUM(F19:M19))
... A32: =IF(MASTER!E26="","",ROWS(MASTER!$E$2:E26)) -> 25 | B32: =" "&'Attendance Sheet'!B32&" " -> 1032443 | C32: =" "&'Attendance Sheet'!D32&" " | D32: =" "&'Attendance Sheet'!E32&" " | N32: =IF(F32="","",SUM(F32:M32))
A33: नोट- प्रमाणित किया जाता है कि उपरोक्त अंक मेरे द्वारा प्रदत किये गए | यह प्रपत्र एवं उपस्थिति पत्रक लिफाफा संख्या 15 में रखकर भेजे |
G35: Signature of Examiner | L35: ….................................
A36: Date:- | C36: =C4 -> 01.01.2026 | G36: Name of Examiner | L36: …................................
G37: Examiner No. | L37: …............................

Sheet AG BIO
A1: मध्यमिक शिक्षा बोर्ड राजस्थान, अजमेर
A2: =MASTER!A13&" AGRICULTURE BIOLOGY (CODE NO."&MASTER!N7&")" -> SENIOR SECONDARY PRACTICAL EXAMINATION - 2026 AGRICULTURE BIOLOGY (CODE NO.39)
A3: विद्यालय का नाम- | C3: =MASTER!A4 -> GOVT.SR.SEC.SCH., BUGIA SRI VIJAYNAGAR , GANGANAGAR | I3: विद्यालय का कोड - | P3: =MASTER!A6 -> 1240901
A4: दिनांक - | C4: =TEXT(" "&MASTER!B10&" ","DD-MM-YY") -> 01.01.2026 | D4: समय- | E4: =" "&MASTER!B11&" " -> 10.00AM TO 1.00PM | K4: दल क्रमांक- | O4: =" "&MASTER!B12&" " -> 1
A5: प्रत्येक परीक्षार्थी को प्रत्येक गतिविधि में प्राप्त अंको का विस्तृत विवरण - पत्रक
A6: क्रम सं. | B6: नामांक | C6: परीक्षार्थी का नाम | D6: पिता का नाम | E6: प्रश्न क्रमांक | F6: 1 | G6: 2 | H6: 3 | I6: 4 | J6: 5 | K6: 6 | L6: 7 | M6: 8 | N6: 9 | O6: सर्वेक्षण प्रतिवेदन एवं संग्रह | P6: मौखिक परीक्षा | Q6: प्रायोगिक अभिलेख | R6: कुल योग
E7: पूर्णांक | F7: 4.5 | G7: 2 | H7: 2 | I7: 2 | J7: 2 | K7: 2 | L7: 2 | M7: 1.5 | N7: 4 | O7: 2 | P7: 3 | Q7: 3 | R7: =SUM(F7:Q7) -> 30
A8: =IF(MASTER!E2="","",ROWS(MASTER!$E$2:E2)) -> 1 | B8: =" "&'Attendance Sheet'!B8&" " -> 1032419 | C8: =" "&'Attendance Sheet'!D8&" " -> MANNAT | D8: =" "&'Attendance Sheet'!E8&" " -> RAMESH KUMAR | R8: =IF(H8="","",SUM(F8:Q8))
A9: =IF(MASTER!E3="","",ROWS(MASTER!$E$2:E3)) -> 2 | B9: =" "&'Attendance Sheet'!B9&" " -> 1032420 | C9: =" "&'Attendance Sheet'!D9&" " -> MANPREET KAUR | D9: =" "&'Attendance Sheet'!E9&" " -> SUKHDEV | R9: =IF(H9="","",SUM(F9:Q9))
A10: =IF(MASTER!E4="","",ROWS(MASTER!$E$2:E4)) -> 3 | B10: =" "&'Attendance Sheet'!B10&" " -> 1032421 | C10: =" "&'Attendance Sheet'!D10&" " -> MANVEER SINGH | D10: =" "&'Attendance Sheet'!E10&" " -> SUKHAVANT SINGH | R10: =IF(H10="","",SUM(F10:Q10))
A11: =IF(MASTER!E5="","",ROWS(MASTER!$E$2:E5)) -> 4 | B11: =" "&'Attendance Sheet'!B11&" " -> 1032422 | C11: =" "&'Attendance Sheet'!D11&" " -> MOHIT | D11: =" "&'Attendance Sheet'!E11&" " -> RAMKUMAR | R11: =IF(H11="","",SUM(F11:Q11))
A12: =IF(MASTER!E6="","",ROWS(MASTER!$E$2:E6)) -> 5 | B12: =" "&'Attendance Sheet'!B12&" " -> 1032423 | C12: =" "&'Attendance Sheet'!D12&" " -> PRACHI | D12: =" "&'Attendance Sheet'!E12&" " -> MAHENDER KUMAR | R12: =IF(H12="","",SUM(F12:Q12))
A13: =IF(MASTER!E7="","",ROWS(MASTER!$E$2:E7)) -> 6 | B13: =" "&'Attendance Sheet'!B13&" " -> 1032424 | C13: =" "&'Attendance Sheet'!D13&" " -> SACHIN | D13: =" "&'Attendance Sheet'!E13&" " -> RAJENDER SINGH | R13: =IF(H13="","",SUM(F13:Q13))
A14: =IF(MASTER!E8="","",ROWS(MASTER!$E$2:E8)) -> 7 | B14: =" "&'Attendance Sheet'!B14&" " -> 1032425 | C14: =" "&'Attendance Sheet'!D14&" " | D14: =" "&'Attendance Sheet'!E14&" " | R14: =IF(H14="","",SUM(F14:Q14))
A15: =IF(MASTER!E9="","",ROWS(MASTER!$E$2:E9)) -> 8 | B15: =" "&'Attendance Sheet'!B15&" " -> 1032426 | C15: =" "&'Attendance Sheet'!D15&" " | D15: =" "&'Attendance Sheet'!E15&" " | R15: =IF(H15="","",SUM(F15:Q15))
A16: =IF(MASTER!E10="","",ROWS(MASTER!$E$2:E10)) -> 9 | B16: =" "&'Attendance Sheet'!B16&" " -> 1032427 | C16: =" "&'Attendance Sheet'!D16&" " | D16: =" "&'Attendance Sheet'!E16&" " | R16: =IF(H16="","",SUM(F16:Q16))
A17: =IF(MASTER!E11="","",ROWS(MASTER!$E$2:E11)) -> 10 | B17: =" "&'Attendance Sheet'!B17&" " -> 1032428 | C17: =" "&'Attendance Sheet'!D17&" " | D17: =" "&'Attendance Sheet'!E17&" " | R17: =IF(H17="","",SUM(F17:Q17))
A18: =IF(MASTER!E12="","",ROWS(MASTER!$E$2:E12)) -> 11 | B18: =" "&'Attendance Sheet'!B18&" " -> 1032429 | C18: =" "&'Attendance Sheet'!D18&" " | D18: =" "&'Attendance Sheet'!E18&" " | R18: =IF(H18="","",SUM(F18:Q18))
A19: =IF(MASTER!E13="","",ROWS(MASTER!$E$2:E13)) -> 12 | B19: =" "&'Attendance Sheet'!B19&" " -> 1032430 | C19: =" "&'Attendance Sheet'!D19&" " | D19: =" "&'Attendance Sheet'!E19&" " | R19: =IF(H19="","",SUM(F19:Q19))
... A32: =IF(MASTER!E26="","",ROWS(MASTER!$E$2:E26)) -> 25 | B32: =" "&'Attendance Sheet'!B32&" " -> 1032443 | C32: =" "&'Attendance Sheet'!D32&" " | D32: =" "&'Attendance Sheet'!E32&" " | R32: =IF(H32="","",SUM(F32:Q32))
A33: नोट- प्रमाणित किया जाता है कि उपरोक्त अंक मेरे द्वारा प्रदत किये गए | यह प्रपत्र एवं उपस्थिति पत्रक लिफाफा संख्या 15 में रखकर भेजे |
I35: Signature of Examiner | O35: ………………………………………
A36: Date:- | C36: =C4 -> 01.01.2026 | I36: Name of Examiner | O36: ………………………………………
I37: Examiner No. | O37: ………………………………………

Sheet COM.SCIENC
A1: BOARD OF SECONDARY EDUCATION, RAJASTHAN, AJMER
A2: =MASTER!A13 -> SENIOR SECONDARY PRACTICAL EXAMINATION - 2026
A3: Computer Science - (CODE No.-03)
A4: Name of School :: | C4: =MASTER!A4 -> GOVT.SR.SEC.SCH., BUGIA SRI VIJAYNAGAR , GANGANAGAR | F4: School Code- | H4: =MASTER!A6 -> 1240901
A5: Batch No. :: | C5: =" "&MASTER!B12&" " -> 1 | D5: Date and Time of Examination:: | F5: =TEXT(" "&MASTER!B10&" ","DD-MM-YY") -> 01.01.2026 | H5: =" "&MASTER!B11&" " -> 10.00AM TO 1.00PM
A6: DISTRIBUTION OF MARKS IN DETAIL
A7: S.No. | B7: Roll No. | C7: Name of Student | D7: Father's Name | E7: Qus.1 | F7: Qus.2 | G7: Project | H7: Viva | I7: Practical File | J7: Total Marks
D8: Max Marks | E8: 7 | F8: 5 | G8: 8 | H8: 3 | I8: 7 | J8: =SUM(E8:I8) -> 30
A9: 1 | B9: 3 | C9: 4 | D9: 6 | E9: 7 | F9: 8 | G9: 9 | H9: 10 | I9: 11 | J9: 12
A10: =IF(MASTER!E2="","",ROWS(MASTER!$E$2:E2)) -> 1 | B10: =" "&'Attendance Sheet'!B8&" " -> 1032419 | C10: =" "&'Attendance Sheet'!D8&" " -> MANNAT | D10: =" "&'Attendance Sheet'!E8&" " -> RAMESH KUMAR | J10: =IF(E10="","",SUM(E10:I10))
A11: =IF(MASTER!E3="","",ROWS(MASTER!$E$2:E3)) -> 2 | B11: =" "&'Attendance Sheet'!B9&" " -> 1032420 | C11: =" "&'Attendance Sheet'!D9&" " -> MANPREET KAUR | D11: =" "&'Attendance Sheet'!E9&" " -> SUKHDEV | J11: =IF(E11="","",SUM(E11:I11))
A12: =IF(MASTER!E4="","",ROWS(MASTER!$E$2:E4)) -> 3 | B12: =" "&'Attendance Sheet'!B10&" " -> 1032421 | C12: =" "&'Attendance Sheet'!D10&" " -> MANVEER SINGH | D12: =" "&'Attendance Sheet'!E10&" " -> SUKHAVANT SINGH | J12: =IF(E12="","",SUM(E12:I12))
A13: =IF(MASTER!E5="","",ROWS(MASTER!$E$2:E5)) -> 4 | B13: =" "&'Attendance Sheet'!B11&" " -> 1032422 | C13: =" "&'Attendance Sheet'!D11&" " -> MOHIT | D13: =" "&'Attendance Sheet'!E11&" " -> RAMKUMAR | J13: =IF(E13="","",SUM(E13:I13))
A14: =IF(MASTER!E6="","",ROWS(MASTER!$E$2:E6)) -> 5 | B14: =" "&'Attendance Sheet'!B12&" " -> 1032423 | C14: =" "&'Attendance Sheet'!D12&" " -> PRACHI | D14: =" "&'Attendance Sheet'!E12&" " -> MAHENDER KUMAR | J14: =IF(E14="","",SUM(E14:I14))
A15: =IF(MASTER!E7="","",ROWS(MASTER!$E$2:E7)) -> 6 | B15: =" "&'Attendance Sheet'!B13&" " -> 1032424 | C15: =" "&'Attendance Sheet'!D13&" " -> SACHIN | D15: =" "&'Attendance Sheet'!E13&" " -> RAJENDER SINGH | J15: =IF(E15="","",SUM(E15:I15))
A16: =IF(MASTER!E8="","",ROWS(MASTER!$E$2:E8)) -> 7 | B16: =" "&'Attendance Sheet'!B14&" " -> 1032425 | C16: =" "&'Attendance Sheet'!D14&" " | D16: =" "&'Attendance Sheet'!E14&" " | J16: =IF(E16="","",SUM(E16:I16))
A17: =IF(MASTER!E9="","",ROWS(MASTER!$E$2:E9)) -> 8 | B17: =" "&'Attendance Sheet'!B15&" " -> 1032426 | C17: =" "&'Attendance Sheet'!D15&" " | D17: =" "&'Attendance Sheet'!E15&" " | J17: =IF(E17="","",SUM(E17:I17))
A18: =IF(MASTER!E10="","",ROWS(MASTER!$E$2:E10)) -> 9 | B18: =" "&'Attendance Sheet'!B16&" " -> 1032427 | C18: =" "&'Attendance Sheet'!D16&" " | D18: =" "&'Attendance Sheet'!E16&" " | J18: =IF(E18="","",SUM(E18:I18))
A19: =IF(MASTER!E11="","",ROWS(MASTER!$E$2:E11)) -> 10 | B19: =" "&'Attendance Sheet'!B17&" " -> 1032428 | C19: =" "&'Attendance Sheet'!D17&" " | D19: =" "&'Attendance Sheet'!E17&" " | J19: =IF(E19="","",SUM(E19:I19))
A20: =IF(MASTER!E12="","",ROWS(MASTER!$E$2:E12)) -> 11 | B20: =" "&'Attendance Sheet'!B18&" " -> 1032429 | C20: =" "&'Attendance Sheet'!D18&" " | D20: =" "&'Attendance Sheet'!E18&" " | J20: =IF(E20="","",SUM(E20:I20))
A21: =IF(MASTER!E13="","",ROWS(MASTER!$E$2:E13)) -> 12 | B21: =" "&'Attendance Sheet'!B19&" " -> 1032430 | C21: =" "&'Attendance Sheet'!D19&" " | D21: =" "&'Attendance Sheet'!E19&" " | J21: =IF(E21="","",SUM(E21:I21))
... A34: =IF(MASTER!E26="","",ROWS(MASTER!$E$2:E26)) -> 25 | B34: =" "&'Attendance Sheet'!B32&" " -> 1032443 | C34: =" "&'Attendance Sheet'!D32&" " | D34: =" "&'Attendance Sheet'!E32&" " | J34: =IF(E34="","",SUM(E34:I34))
A35: Declaration : Program written and executed in computer by candidates in my presence.
D37: Signature of Examiner | E37: ………………………………………
A38: Date:- | B38: =F5 -> 01.01.2026 | D38: Name of Examiner | E38: ………………………………………
D39: Examiner No. | E39: ………………………………………

Sheet PSYCHOLOGY
A1: BOARD OF SECONDARY EDUCATION, RAJASTHAN, AJMER
A2: =MASTER!A13 -> SENIOR SECONDARY PRACTICAL EXAMINATION - 2026
A3: मनोविज्ञान (Psychology) - (CODE No.-19)
A4: Name of School :: | C4: =MASTER!A4 -> GOVT.SR.SEC.SCH., BUGIA SRI VIJAYNAGAR , GANGANAGAR | F4: School Code- | H4: =MASTER!A6 -> 1240901
A5: Batch No. :: | C5: =" "&MASTER!B12&" " -> 1 | D5: Date and Time of Examination:: | F5: =TEXT(" "&MASTER!B10&" ","DD-MM-YY") -> 01.01.2026 | H5: =" "&MASTER!B11&" " -> 10.00AM TO 1.00PM
A6: DISTRIBUTION OF MARKS IN DETAIL
A7: S.No. | B7: Roll No. | C7: Name of Student | D7: Father's Name | E7: प्रायोगिक फाईल | F7: केस प्रोफाइल/प्रोजेक्ट | G7: मौखिक परीक्षा | H7: प्रायोगिक कार्य दो | I7: आन्तरिक मुल्यांकन / रिपोर्ट लेखन | J7: Total Marks
D8: Max Marks | E8: 5 | F8: 5 | G8: 5 | H8: 10 | I8: 5 | J8: =SUM(E8:I8) -> 30
A9: 1 | B9: 3 | C9: 4 | D9: 6 | E9: 7 | F9: 8 | G9: 9 | H9: 10 | I9: 10 | J9: 11
A10: =IF(MASTER!E2="","",ROWS(MASTER!$E$2:E2)) -> 1 | B10: =" "&'Attendance Sheet'!B8&" " -> 1032419 | C10: =" "&'Attendance Sheet'!D8&" " -> MANNAT | D10: =" "&'Attendance Sheet'!E8&" " -> RAMESH KUMAR | J10: =IF(E10="","",SUM(E10:I10))
A11: =IF(MASTER!E3="","",ROWS(MASTER!$E$2:E3)) -> 2 | B11: =" "&'Attendance Sheet'!B9&" " -> 1032420 | C11: =" "&'Attendance Sheet'!D9&" " -> MANPREET KAUR | D11: =" "&'Attendance Sheet'!E9&" " -> SUKHDEV | J11: =IF(E11="","",SUM(E11:I11))
A12: =IF(MASTER!E4="","",ROWS(MASTER!$E$2:E4)) -> 3 | B12: =" "&'Attendance Sheet'!B10&" " -> 1032421 | C12: =" "&'Attendance Sheet'!D10&" " -> MANVEER SINGH | D12: =" "&'Attendance Sheet'!E10&" " -> SUKHAVANT SINGH | J12: =IF(E12="","",SUM(E12:I12))
A13: =IF(MASTER!E5="","",ROWS(MASTER!$E$2:E5)) -> 4 | B13: =" "&'Attendance Sheet'!B11&" " -> 1032422 | C13: =" "&'Attendance Sheet'!D11&" " -> MOHIT | D13: =" "&'Attendance Sheet'!E11&" " -> RAMKUMAR | J13: =IF(E13="","",SUM(E13:I13))
A14: =IF(MASTER!E6="","",ROWS(MASTER!$E$2:E6)) -> 5 | B14: =" "&'Attendance Sheet'!B12&" " -> 1032423 | C14: =" "&'Attendance Sheet'!D12&" " -> PRACHI | D14: =" "&'Attendance Sheet'!E12&" " -> MAHENDER KUMAR | J14: =IF(E14="","",SUM(E14:I14))
A15: =IF(MASTER!E7="","",ROWS(MASTER!$E$2:E7)) -> 6 | B15: =" "&'Attendance Sheet'!B13&" " -> 1032424 | C15: =" "&'Attendance Sheet'!D13&" " -> SACHIN | D15: =" "&'Attendance Sheet'!E13&" " -> RAJENDER SINGH | J15: =IF(E15="","",SUM(E15:I15))
A16: =IF(MASTER!E8="","",ROWS(MASTER!$E$2:E8)) -> 7 | B16: =" "&'Attendance Sheet'!B14&" " -> 1032425 | C16: =" "&'Attendance Sheet'!D14&" " | D16: =" "&'Attendance Sheet'!E14&" " | J16: =IF(E16="","",SUM(E16:I16))
A17: =IF(MASTER!E9="","",ROWS(MASTER!$E$2:E9)) -> 8 | B17: =" "&'Attendance Sheet'!B15&" " -> 1032426 | C17: =" "&'Attendance Sheet'!D15&" " | D17: =" "&'Attendance Sheet'!E15&" " | J17: =IF(E17="","",SUM(E17:I17))
A18: =IF(MASTER!E10="","",ROWS(MASTER!$E$2:E10)) -> 9 | B18: =" "&'Attendance Sheet'!B16&" " -> 1032427 | C18: =" "&'Attendance Sheet'!D16&" " | D18: =" "&'Attendance Sheet'!E16&" " | J18: =IF(E18="","",SUM(E18:I18))
A19: =IF(MASTER!E11="","",ROWS(MASTER!$E$2:E11)) -> 10 | B19: =" "&'Attendance Sheet'!B17&" " -> 1032428 | C19: =" "&'Attendance Sheet'!D17&" " | D19: =" "&'Attendance Sheet'!E17&" " | J19: =IF(E19="","",SUM(E19:I19))
A20: =IF(MASTER!E12="","",ROWS(MASTER!$E$2:E12)) -> 11 | B20: =" "&'Attendance Sheet'!B18&" " -> 1032429 | C20: =" "&'Attendance Sheet'!D18&" " | D20: =" "&'Attendance Sheet'!E18&" " | J20: =IF(E20="","",SUM(E20:I20))
A21: =IF(MASTER!E13="","",ROWS(MASTER!$E$2:E13)) -> 12 | B21: =" "&'Attendance Sheet'!B19&" " -> 1032430 | C21: =" "&'Attendance Sheet'!D19&" " | D21: =" "&'Attendance Sheet'!E19&" " | J21: =IF(E21="","",SUM(E21:I21))
... A34: =IF(MASTER!E26="","",ROWS(MASTER!$E$2:E26)) -> 25 | B34: =" "&'Attendance Sheet'!B32&" " -> 1032443 | C34: =" "&'Attendance Sheet'!D32&" " | D34: =" "&'Attendance Sheet'!E32&" " | J34: =IF(E34="","",SUM(E34:I34))
A35: नोट- प्रमाणित किया जाता है कि उपरोक्त अंक मेरे द्वारा प्रदत किये गए | यह प्रपत्र एवं उपस्थिति पत्रक लिफाफा संख्या 15 में रखकर भेजे |
D37: Signature of Examiner | E37: ………………………………………
A38: Date:- | B38: =F5 -> 01.01.2026 | D38: Name of Examiner | E38: ………………………………………
D39: Examiner No. | E39: ………………………………………

Sheet INFO.PRA.
A1: BOARD OF SECONDARY EDUCATION, RAJASTHAN, AJMER
A2: =MASTER!A13 -> SENIOR SECONDARY PRACTICAL EXAMINATION - 2026
A3: Informatics Practics - (CODE No.-04)
A4: Name of School :: | C4: =MASTER!A4 -> GOVT.SR.SEC.SCH., BUGIA SRI VIJAYNAGAR , GANGANAGAR | F4: School Code- | H4: =MASTER!A6 -> 1240901
A5: Batch No. :: | C5: =" "&MASTER!B12&" " -> 1 | D5: Date and Time of Examination:: | F5: =TEXT(" "&MASTER!B10&" ","DD-MM-YY") -> 01.01.2026 | H5: =" "&MASTER!B11&" " -> 10.00AM TO 1.00PM
A6: DISTRIBUTION OF MARKS IN DETAIL
A7: S.No. | B7: Roll No. | C7: Name of Student | D7: Father's Name | E7: Qus.1 | F7: Qus.2 | G7: Project | H7: Viva | I7: Practical File | J7: Total Marks
D8: Max Marks | E8: 8 | F8: 5 | G8: 7 | H8: 5 | I8: 5 | J8: =SUM(E8:I8) -> 30
A9: 1 | B9: 3 | C9: 4 | D9: 6 | E9: 7 | F9: 8 | G9: 9 | H9: 10 | I9: 11 | J9: 12
A10: =IF(MASTER!E2="","",ROWS(MASTER!$E$2:E2)) -> 1 | B10: =" "&'Attendance Sheet'!B8&" " -> 1032419 | C10: =" "&'Attendance Sheet'!D8&" " -> MANNAT | D10: =" "&'Attendance Sheet'!E8&" " -> RAMESH KUMAR | J10: =IF(E10="","",SUM(E10:I10))
A11: =IF(MASTER!E3="","",ROWS(MASTER!$E$2:E3)) -> 2 | B11: =" "&'Attendance Sheet'!B9&" " -> 1032420 | C11: =" "&'Attendance Sheet'!D9&" " -> MANPREET KAUR | D11: =" "&'Attendance Sheet'!E9&" " -> SUKHDEV | J11: =IF(E11="","",SUM(E11:I11))
A12: =IF(MASTER!E4="","",ROWS(MASTER!$E$2:E4)) -> 3 | B12: =" "&'Attendance Sheet'!B10&" " -> 1032421 | C12: =" "&'Attendance Sheet'!D10&" " -> MANVEER SINGH | D12: =" "&'Attendance Sheet'!E10&" " -> SUKHAVANT SINGH | J12: =IF(E12="","",SUM(E12:I12))
A13: =IF(MASTER!E5="","",ROWS(MASTER!$E$2:E5)) -> 4 | B13: =" "&'Attendance Sheet'!B11&" " -> 1032422 | C13: =" "&'Attendance Sheet'!D11&" " -> MOHIT | D13: =" "&'Attendance Sheet'!E11&" " -> RAMKUMAR | J13: =IF(E13="","",SUM(E13:I13))
A14: =IF(MASTER!E6="","",ROWS(MASTER!$E$2:E6)) -> 5 | B14: =" "&'Attendance Sheet'!B12&" " -> 1032423 | C14: =" "&'Attendance Sheet'!D12&" " -> PRACHI | D14: =" "&'Attendance Sheet'!E12&" " -> MAHENDER KUMAR | J14: =IF(E14="","",SUM(E14:I14))
A15: =IF(MASTER!E7="","",ROWS(MASTER!$E$2:E7)) -> 6 | B15: =" "&'Attendance Sheet'!B13&" " -> 1032424 | C15: =" "&'Attendance Sheet'!D13&" " -> SACHIN | D15: =" "&'Attendance Sheet'!E13&" " -> RAJENDER SINGH | J15: =IF(E15="","",SUM(E15:I15))
A16: =IF(MASTER!E8="","",ROWS(MASTER!$E$2:E8)) -> 7 | B16: =" "&'Attendance Sheet'!B14&" " -> 1032425 | C16: =" "&'Attendance Sheet'!D14&" " | D16: =" "&'Attendance Sheet'!E14&" " | J16: =IF(E16="","",SUM(E16:I16))
A17: =IF(MASTER!E9="","",ROWS(MASTER!$E$2:E9)) -> 8 | B17: =" "&'Attendance Sheet'!B15&" " -> 1032426 | C17: =" "&'Attendance Sheet'!D15&" " | D17: =" "&'Attendance Sheet'!E15&" " | J17: =IF(E17="","",SUM(E17:I17))
A18: =IF(MASTER!E10="","",ROWS(MASTER!$E$2:E10)) -> 9 | B18: =" "&'Attendance Sheet'!B16&" " -> 1032427 | C18: =" "&'Attendance Sheet'!D16&" " | D18: =" "&'Attendance Sheet'!E16&" " | J18: =IF(E18="","",SUM(E18:I18))
A19: =IF(MASTER!E11="","",ROWS(MASTER!$E$2:E11)) -> 10 | B19: =" "&'Attendance Sheet'!B17&" " -> 1032428 | C19: =" "&'Attendance Sheet'!D17&" " | D19: =" "&'Attendance Sheet'!E17&" " | J19: =IF(E19="","",SUM(E19:I19))
A20: =IF(MASTER!E12="","",ROWS(MASTER!$E$2:E12)) -> 11 | B20: =" "&'Attendance Sheet'!B18&" " -> 1032429 | C20: =" "&'Attendance Sheet'!D18&" " | D20: =" "&'Attendance Sheet'!E18&" " | J20: =IF(E20="","",SUM(E20:I20))
A21: =IF(MASTER!E13="","",ROWS(MASTER!$E$2:E13)) -> 12 | B21: =" "&'Attendance Sheet'!B19&" " -> 1032430 | C21: =" "&'Attendance Sheet'!D19&" " | D21: =" "&'Attendance Sheet'!E19&" " | J21: =IF(E21="","",SUM(E21:I21))
... A34: =IF(MASTER!E26="","",ROWS(MASTER!$E$2:E26)) -> 25 | B34: =" "&'Attendance Sheet'!B32&" " -> 1032443 | C34: =" "&'Attendance Sheet'!D32&" " | D34: =" "&'Attendance Sheet'!E32&" " | J34: =IF(E34="","",SUM(E34:I34))
A35: Declaration : Program written and executed in computer by candidates in my presence.
D37: Signature of Examiner | E37: ………………………………………
A38: Date:- | B38: =F5 -> 01.01.2026 | D38: Name of Examiner | E38: ………………………………………
D39: Examiner No. | E39: ………………………………………

Sheet GEO
A1: मध्यमिक शिक्षा बोर्ड राजस्थान, अजमेर
A2: =MASTER!A13 -> SENIOR SECONDARY PRACTICAL EXAMINATION - 2026
A3: भूगोल प्रायोगिक (कोड नं. - 14)
A4: विद्यालय का नाम | C4: =MASTER!A4 -> GOVT.SR.SEC.SCH., BUGIA SRI VIJAYNAGAR , GANGANAGAR | E4: विद्यालय का कोड - | H4: =MASTER!A6 -> 1240901
A5: बैच नं. | C5: =" "&MASTER!B12&" " -> 1 | D5: दिनांक एवं समय- | E5: =TEXT(" "&MASTER!B10&" ","DD-MM-YY") -> 01.01.2026 | G5: =" "&MASTER!B11&" " -> 10.00AM TO 1.00PM
A6: प्राप्त अंको का विस्तृत विवरण - पत्रक
A7: S.No. | B7: Roll No. | C7: Name of Student | D7: Father's Name | E7: लिखित प्रश्न पत्र | F7: प्रायोगिक अभिलेख | J7: योग
F8: अभिलेख | H8: मौखिक
E9: 16 | F9: 10 | H9: 4 | J9: =SUM(E9:I9) -> 30
A10: =IF(MASTER!E2="","",ROWS(MASTER!$E$2:E2)) -> 1 | B10: =" "&'Attendance Sheet'!B8&" " -> 1032419 | C10: =" "&'Attendance Sheet'!D8&" " -> MANNAT | D10: =" "&'Attendance Sheet'!E8&" " -> RAMESH KUMAR | J10: =IF(E10="","",SUM(E10:I10))
A11: =IF(MASTER!E3="","",ROWS(MASTER!$E$2:E3)) -> 2 | B11: =" "&'Attendance Sheet'!B9&" " -> 1032420 | C11: =" "&'Attendance Sheet'!D9&" " -> MANPREET KAUR | D11: =" "&'Attendance Sheet'!E9&" " -> SUKHDEV | J11: =IF(E11="","",SUM(E11:I11))
A12: =IF(MASTER!E4="","",ROWS(MASTER!$E$2:E4)) -> 3 | B12: =" "&'Attendance Sheet'!B10&" " -> 1032421 | C12: =" "&'Attendance Sheet'!D10&" " -> MANVEER SINGH | D12: =" "&'Attendance Sheet'!E10&" " -> SUKHAVANT SINGH | J12: =IF(E12="","",SUM(E12:I12))
A13: =IF(MASTER!E5="","",ROWS(MASTER!$E$2:E5)) -> 4 | B13: =" "&'Attendance Sheet'!B11&" " -> 1032422 | C13: =" "&'Attendance Sheet'!D11&" " -> MOHIT | D13: =" "&'Attendance Sheet'!E11&" " -> RAMKUMAR | J13: =IF(E13="","",SUM(E13:I13))
A14: =IF(MASTER!E6="","",ROWS(MASTER!$E$2:E6)) -> 5 | B14: =" "&'Attendance Sheet'!B12&" " -> 1032423 | C14: =" "&'Attendance Sheet'!D12&" " -> PRACHI | D14: =" "&'Attendance Sheet'!E12&" " -> MAHENDER KUMAR | J14: =IF(E14="","",SUM(E14:I14))
A15: =IF(MASTER!E7="","",ROWS(MASTER!$E$2:E7)) -> 6 | B15: =" "&'Attendance Sheet'!B13&" " -> 1032424 | C15: =" "&'Attendance Sheet'!D13&" " -> SACHIN | D15: =" "&'Attendance Sheet'!E13&" " -> RAJENDER SINGH | J15: =IF(E15="","",SUM(E15:I15))
A16: =IF(MASTER!E8="","",ROWS(MASTER!$E$2:E8)) -> 7 | B16: =" "&'Attendance Sheet'!B14&" " -> 1032425 | C16: =" "&'Attendance Sheet'!D14&" " | D16: =" "&'Attendance Sheet'!E14&" " | J16: =IF(E16="","",SUM(E16:I16))
A17: =IF(MASTER!E9="","",ROWS(MASTER!$E$2:E9)) -> 8 | B17: =" "&'Attendance Sheet'!B15&" " -> 1032426 | C17: =" "&'Attendance Sheet'!D15&" " | D17: =" "&'Attendance Sheet'!E15&" " | J17: =IF(E17="","",SUM(E17:I17))
A18: =IF(MASTER!E10="","",ROWS(MASTER!$E$2:E10)) -> 9 | B18: =" "&'Attendance Sheet'!B16&" " -> 1032427 | C18: =" "&'Attendance Sheet'!D16&" " | D18: =" "&'Attendance Sheet'!E16&" " | J18: =IF(E18="","",SUM(E18:I18))
A19: =IF(MASTER!E11="","",ROWS(MASTER!$E$2:E11)) -> 10 | B19: =" "&'Attendance Sheet'!B17&" " -> 1032428 | C19: =" "&'Attendance Sheet'!D17&" " | D19: =" "&'Attendance Sheet'!E17&" " | J19: =IF(E19="","",SUM(E19:I19))
A20: =IF(MASTER!E12="","",ROWS(MASTER!$E$2:E12)) -> 11 | B20: =" "&'Attendance Sheet'!B18&" " -> 1032429 | C20: =" "&'Attendance Sheet'!D18&" " | D20: =" "&'Attendance Sheet'!E18&" " | J20: =IF(E20="","",SUM(E20:I20))
A21: =IF(MASTER!E13="","",ROWS(MASTER!$E$2:E13)) -> 12 | B21: =" "&'Attendance Sheet'!B19&" " -> 1032430 | C21: =" "&'Attendance Sheet'!D19&" " | D21: =" "&'Attendance Sheet'!E19&" " | J21: =IF(E21="","",SUM(E21:I21))
... A34: =IF(MASTER!E26="","",ROWS(MASTER!$E$2:E26)) -> 25 | B34: =" "&'Attendance Sheet'!B32&" " -> 1032443 | C34: =" "&'Attendance Sheet'!D32&" " | D34: =" "&'Attendance Sheet'!E32&" " | J34: =IF(E34="","",SUM(E34:I34))
A35: नोट- प्रमाणित किया जाता है कि उपरोक्त अंक मेरे द्वारा प्रदत किये गए | यह प्रपत्र एवं उपस्थिति पत्रक लिफाफा संख्या 15 में रखकर भेजे |
D37: Signature of Examiner | E37: ………………………………………
A38: Date:- | B38: =E5 -> 01.01.2026 | D38: Name of Examiner | E38: ………………………………………
D39: Examiner No. | E39: ………………………………………

Sheet DRAW REG
A1: मध्यमिक शिक्षा बोर्ड राजस्थान, अजमेर
A2: =MASTER!A13 -> SENIOR SECONDARY PRACTICAL EXAMINATION - 2026
A3: चित्रकला प्रायोगिक (कोड नं. - 17) नियमित परीक्षार्थीयों के लिए
A4: विद्यालय का नाम- | C4: =MASTER!A4 -> GOVT.SR.SEC.SCH., BUGIA SRI VIJAYNAGAR , GANGANAGAR | E4: विद्यालय का कोड - | G4: =MASTER!A6 -> 1240901
A5: बैच नं. | C5: =" "&MASTER!B12&" " -> 1 | D5: दिनांक एवं समय- | E5: =TEXT(" "&MASTER!B10&" ","DD-MM-YY") -> 01.01.2026 | G5: =" "&MASTER!B11&" " -> 10.00AM TO 1.00PM
A6: परीक्षार्थीयों द्वारा प्राप्त अंको का विस्तृत विवरण - पत्रक
A7: S.No. | B7: Roll No. | C7: Name of Student | D7: Father's Name | E7: 25 अंक वस्तुचित्रण | F7: 25 अंक चित्र संयोजन | G7: 20 अंक सत्रीय कार्य | H7: 70 प्राप्तांको का योग
A8: =IF(MASTER!E2="","",ROWS(MASTER!$E$2:E2)) -> 1 | B8: =" "&'Attendance Sheet'!B8&" " -> 1032419 | C8: =" "&'Attendance Sheet'!D8&" " -> MANNAT | D8: =" "&'Attendance Sheet'!E8&" " -> RAMESH KUMAR | H8: =IF(E8="","",SUM(E8:G8))
A9: =IF(MASTER!E3="","",ROWS(MASTER!$E$2:E3)) -> 2 | B9: =" "&'Attendance Sheet'!B9&" " -> 1032420 | C9: =" "&'Attendance Sheet'!D9&" " -> MANPREET KAUR | D9: =" "&'Attendance Sheet'!E9&" " -> SUKHDEV | H9: =IF(E9="","",SUM(E9:G9))
A10: =IF(MASTER!E4="","",ROWS(MASTER!$E$2:E4)) -> 3 | B10: =" "&'Attendance Sheet'!B10&" " -> 1032421 | C10: =" "&'Attendance Sheet'!D10&" " -> MANVEER SINGH | D10: =" "&'Attendance Sheet'!E10&" " -> SUKHAVANT SINGH | H10: =IF(E10="","",SUM(E10:G10))
A11: =IF(MASTER!E5="","",ROWS(MASTER!$E$2:E5)) -> 4 | B11: =" "&'Attendance Sheet'!B11&" " -> 1032422 | C11: =" "&'Attendance Sheet'!D11&" " -> MOHIT | D11: =" "&'Attendance Sheet'!E11&" " -> RAMKUMAR | H11: =IF(E11="","",SUM(E11:G11))
A12: =IF(MASTER!E6="","",ROWS(MASTER!$E$2:E6)) -> 5 | B12: =" "&'Attendance Sheet'!B12&" " -> 1032423 | C12: =" "&'Attendance Sheet'!D12&" " -> PRACHI | D12: =" "&'Attendance Sheet'!E12&" " -> MAHENDER KUMAR | H12: =IF(E12="","",SUM(E12:G12))
A13: =IF(MASTER!E7="","",ROWS(MASTER!$E$2:E7)) -> 6 | B13: =" "&'Attendance Sheet'!B13&" " -> 1032424 | C13: =" "&'Attendance Sheet'!D13&" " -> SACHIN | D13: =" "&'Attendance Sheet'!E13&" " -> RAJENDER SINGH | H13: =IF(E13="","",SUM(E13:G13))
A14: =IF(MASTER!E8="","",ROWS(MASTER!$E$2:E8)) -> 7 | B14: =" "&'Attendance Sheet'!B14&" " -> 1032425 | C14: =" "&'Attendance Sheet'!D14&" " | D14: =" "&'Attendance Sheet'!E14&" " | H14: =IF(E14="","",SUM(E14:G14))
A15: =IF(MASTER!E9="","",ROWS(MASTER!$E$2:E9)) -> 8 | B15: =" "&'Attendance Sheet'!B15&" " -> 1032426 | C15: =" "&'Attendance Sheet'!D15&" " | D15: =" "&'Attendance Sheet'!E15&" " | H15: =IF(E15="","",SUM(E15:G15))
A16: =IF(MASTER!E10="","",ROWS(MASTER!$E$2:E10)) -> 9 | B16: =" "&'Attendance Sheet'!B16&" " -> 1032427 | C16: =" "&'Attendance Sheet'!D16&" " | D16: =" "&'Attendance Sheet'!E16&" " | H16: =IF(E16="","",SUM(E16:G16))
A17: =IF(MASTER!E11="","",ROWS(MASTER!$E$2:E11)) -> 10 | B17: =" "&'Attendance Sheet'!B17&" " -> 1032428 | C17: =" "&'Attendance Sheet'!D17&" " | D17: =" "&'Attendance Sheet'!E17&" " | H17: =IF(E17="","",SUM(E17:G17))
A18: =IF(MASTER!E12="","",ROWS(MASTER!$E$2:E12)) -> 11 | B18: =" "&'Attendance Sheet'!B18&" " -> 1032429 | C18: =" "&'Attendance Sheet'!D18&" " | D18: =" "&'Attendance Sheet'!E18&" " | H18: =IF(E18="","",SUM(E18:G18))
A19: =IF(MASTER!E13="","",ROWS(MASTER!$E$2:E13)) -> 12 | B19: =" "&'Attendance Sheet'!B19&" " -> 1032430 | C19: =" "&'Attendance Sheet'!D19&" " | D19: =" "&'Attendance Sheet'!E19&" " | H19: =IF(E19="","",SUM(E19:G19))
... A32: =IF(MASTER!E26="","",ROWS(MASTER!$E$2:E26)) -> 25 | B32: =" "&'Attendance Sheet'!B32&" " -> 1032443 | C32: =" "&'Attendance Sheet'!D32&" " | D32: =" "&'Attendance Sheet'!E32&" " | H32: =IF(E32="","",SUM(E32:G32))
A33: नोट- प्रमाणित किया जाता है कि उपरोक्त अंक मेरे द्वारा प्रदत किये गए | यह प्रपत्र एवं उपस्थिति पत्रक लिफाफा संख्या 15 में रखकर भेजे |
D35: Signature of Examiner | E35: ………………………………………
A36: Date:- | B36: =E5 -> 01.01.2026 | D36: Name of Examiner | E36: ………………………………………
D37: Examiner No. | E37: ………………………………………

Sheet HOME SC
A1: मध्यमिक शिक्षा बोर्ड राजस्थान, अजमेर
A2: =MASTER!A13 -> SENIOR SECONDARY PRACTICAL EXAMINATION - 2026
A3: गृह विज्ञान प्रायोगिक परीक्षा (कोड नं. - 18)
A4: विद्यालय का नाम- | C4: =MASTER!A4 -> GOVT.SR.SEC.SCH., BUGIA SRI VIJAYNAGAR , GANGANAGAR | I4: विद्यालय का कोड - | K4: =MASTER!A6 -> 1240901
A5: ="परीक्षा दिनांक -"&TEXT(MASTER!B10&" ","DD-MM-YY") -> परीक्षा दिनांक -01.01.2026 | D5: समय- | E5: =" "&MASTER!B11&" " -> 10.00AM TO 1.00PM | I5: ="बैच संख्या- "&MASTER!B12&" " -> बैच संख्या- 1
A6: प्रत्येक परीक्षार्थी को प्राप्त अंको का विस्तृत विवरण - पत्रक
A7: क्र. सं. | B7: नामांक | C7: परीक्षार्थी का नाम | D7: पिता का नाम | E7: प्रोजेक्ट 5 अंक | F7: ईकाई - II | H7: ईकाई - IV | J7: ईकाई - V | K7: आन्तरिक मुल्यांकन | M7: कुल योग 30 अंक
F8: पोषण , खाद्य विज्ञान एवं प्रौद्योगकी 7 अंक | H8: वस्त्र एवं परिधान 6 अंक | J8: प्रोजेक्ट पम्पलेट | K8: कार्य पुस्तिका | L8: मौखिक
F9: व्यंजन पकाना एवं परोसना 5 अंक | G9: मिलावट 2 अंक | H9: ब्लॉक/ वाटिक/ बन्धेज 4 अंक | I9: धब्बे छुड़ाना 2 अंक | J9: 5 अंक | K9: 5 अंक | L9: 2 अंक
A10: =IF(MASTER!E2="","",ROWS(MASTER!$E$2:E2)) -> 1 | B10: =" "&'Attendance Sheet'!B8&" " -> 1032419 | C10: =" "&'Attendance Sheet'!D8&" " -> MANNAT | D10: =" "&'Attendance Sheet'!E8&" " -> RAMESH KUMAR | M10: =IF(F10="","",SUM(F10:L10))
A11: =IF(MASTER!E3="","",ROWS(MASTER!$E$2:E3)) -> 2 | B11: =" "&'Attendance Sheet'!B9&" " -> 1032420 | C11: =" "&'Attendance Sheet'!D9&" " -> MANPREET KAUR | D11: =" "&'Attendance Sheet'!E9&" " -> SUKHDEV | M11: =IF(F11="","",SUM(F11:L11))
A12: =IF(MASTER!E4="","",ROWS(MASTER!$E$2:E4)) -> 3 | B12: =" "&'Attendance Sheet'!B10&" " -> 1032421 | C12: =" "&'Attendance Sheet'!D10&" " -> MANVEER SINGH | D12: =" "&'Attendance Sheet'!E10&" " -> SUKHAVANT SINGH | M12: =IF(F12="","",SUM(F12:L12))
A13: =IF(MASTER!E5="","",ROWS(MASTER!$E$2:E5)) -> 4 | B13: =" "&'Attendance Sheet'!B11&" " -> 1032422 | C13: =" "&'Attendance Sheet'!D11&" " -> MOHIT | D13: =" "&'Attendance Sheet'!E11&" " -> RAMKUMAR | M13: =IF(F13="","",SUM(F13:L13))
A14: =IF(MASTER!E6="","",ROWS(MASTER!$E$2:E6)) -> 5 | B14: =" "&'Attendance Sheet'!B12&" " -> 1032423 | C14: =" "&'Attendance Sheet'!D12&" " -> PRACHI | D14: =" "&'Attendance Sheet'!E12&" " -> MAHENDER KUMAR | M14: =IF(F14="","",SUM(F14:L14))
A15: =IF(MASTER!E7="","",ROWS(MASTER!$E$2:E7)) -> 6 | B15: =" "&'Attendance Sheet'!B13&" " -> 1032424 | C15: =" "&'Attendance Sheet'!D13&" " -> SACHIN | D15: =" "&'Attendance Sheet'!E13&" " -> RAJENDER SINGH | M15: =IF(F15="","",SUM(F15:L15))
A16: =IF(MASTER!E8="","",ROWS(MASTER!$E$2:E8)) -> 7 | B16: =" "&'Attendance Sheet'!B14&" " -> 1032425 | C16: =" "&'Attendance Sheet'!D14&" " | D16: =" "&'Attendance Sheet'!E14&" " | M16: =IF(F16="","",SUM(F16:L16))
A17: =IF(MASTER!E9="","",ROWS(MASTER!$E$2:E9)) -> 8 | B17: =" "&'Attendance Sheet'!B15&" " -> 1032426 | C17: =" "&'Attendance Sheet'!D15&" " | D17: =" "&'Attendance Sheet'!E15&" " | M17: =IF(F17="","",SUM(F17:L17))
A18: =IF(MASTER!E10="","",ROWS(MASTER!$E$2:E10)) -> 9 | B18: =" "&'Attendance Sheet'!B16&" " -> 1032427 | C18: =" "&'Attendance Sheet'!D16&" " | D18: =" "&'Attendance Sheet'!E16&" " | M18: =IF(F18="","",SUM(F18:L18))
A19: =IF(MASTER!E11="","",ROWS(MASTER!$E$2:E11)) -> 10 | B19: =" "&'Attendance Sheet'!B17&" " -> 1032428 | C19: =" "&'Attendance Sheet'!D17&" " | D19: =" "&'Attendance Sheet'!E17&" " | M19: =IF(F19="","",SUM(F19:L19))
A20: =IF(MASTER!E12="","",ROWS(MASTER!$E$2:E12)) -> 11 | B20: =" "&'Attendance Sheet'!B18&" " -> 1032429 | C20: =" "&'Attendance Sheet'!D18&" " | D20: =" "&'Attendance Sheet'!E18&" " | M20: =IF(F20="","",SUM(F20:L20))
A21: =IF(MASTER!E13="","",ROWS(MASTER!$E$2:E13)) -> 12 | B21: =" "&'Attendance Sheet'!B19&" " -> 1032430 | C21: =" "&'Attendance Sheet'!D19&" " | D21: =" "&'Attendance Sheet'!E19&" " | M21: =IF(F21="","",SUM(F21:L21))
... A34: =IF(MASTER!E26="","",ROWS(MASTER!$E$2:E26)) -> 25 | B34: =" "&'Attendance Sheet'!B32&" " -> 1032443 | C34: =" "&'Attendance Sheet'!D32&" " | D34: =" "&'Attendance Sheet'!E32&" " | M34: =IF(F34="","",SUM(F34:L34))
A35: नोट- प्रमाणित किया जाता है कि उपरोक्त अंक मेरे द्वारा प्रदत किये गए | यह प्रपत्र एवं उपस्थिति पत्रक लिफाफा संख्या 15 में रखकर भेजे |
H37: Signature of Examiner | K37: ………………………………………
A38: Date:- | C38: =TEXT(" "&MASTER!B10&" ","dd-mm-yy") -> 01.01.2026 | H38: Name of Examiner | K38: ………………………………………
H39: Examiner No. | K39: ………………………………………

Sheet answer book slip
A1: इस प्रपत्र को जांची हुई उत्तर - पुस्तिकाओं के बण्डल पर चिपकाकर वांछित पूर्तियां कर भेजे | गोपनीय प्रपत्र - 56
A3: BSER/CONF/PRACT/2021/20,000 | K3: MOST CONFIDENTIAL
A4: विषय | H4: प्रायोगिक परीक्षक संकेतांक / आईडी क्रमांक (इस वर्ष आवंटित परीक्षक संकेतांक लिखे, पंजीयन संख्या नहीं)
A7: माध्यमिक शिक्षा बोर्ड, राजस्थान, अजमेर
A8: उच्च माध्यमिक प्रायोगिक परीक्षा - 2026
A9: (प्रायोगिक परीक्षा, 2026 की जांची हुई उत्तर - पुस्तिकाऐ)
A11: प्रेषित :- | H11: विद्यालय कोड | J11: विद्यालय का नाम
B12: निदेशक (गोपनीय) | H12: =MASTER!A6 -> 1240901 | J12: =MASTER!A4 -> GOVT.SR.SEC.SCH., BUGIA SRI VIJAYNAGAR , GANGANAGAR
B13: माध्यमिक शिक्षा बोर्ड, राजस्थान
B14: अजमेर- 305001 (राजस्थान)
A16: प्रेषक :-
B17: प्रधानाचार्य
B18: =J12 -> GOVT.SR.SEC.SCH., BUGIA SRI VIJAYNAGAR , GANGANAGAR

Sheet परीक्षा विवरण प्रपत्र
A1: माध्यमिक शिक्षा बोर्ड, राजस्थान, अजमेर
A2: उच्च माध्यमिक / वरिष्ठ उपाध्याय प्रायोगिक परीक्षा - 2026
A3: परीक्षा विवरण प्रपत्र
A4: विद्यालय का नाम- | C4: =MASTER!A4 -> GOVT.SR.SEC.SCH., BUGIA SRI VIJAYNAGAR , GANGANAGAR | G4: तहसील- | I4: ….....
A5: जिला- | C5: …...... | G5: विद्यालय कोड- | I5: =MASTER!A6 -> 1240901
A6: प्रमाणित किया जाता है कि निम्न विषयों की प्रायोगिक परीक्षाये बोर्ड द्वारा नियुक्त बाह्य परीक्षक द्वारा मेरी उपस्थिति में निर्धारित नियम / प्रक्रियानुसार निम्न दिनांको को आयोजित करवाई गई | परीक्षा आयोजन की सुचना बोर्ड एवं जिला शिक्षा अधिकारी (माध्यमिक) को दे दी गई है :-
A8: (अ) बाह्य परीक्षक का प्रमाणीकरण :-
A9: क्र.सं. | B9: नाम परीक्षक व पद | C9: विषय | D9: दिनांक | F9: कुल दिन | G9: आवंटित परीक्षार्थी | H9: उपस्थित परीक्षार्थी | I9: कुल बैच | J9: हस्ताक्षर
D10: से | E10: तक
A11: 1
A12: 2
A13: 3
A14: 4
A15: 5
A16: 6
A17: 7
A18: 8
A19: 9
A20: 10
A21: (ब) आन्तरिक (शाला) व्याख्याता प्रमाणीकरण :-
A22: क्र.सं. | B22: नाम परीक्षक व पद | C22: विषय | D22: दिनांक | F22: कुल दिन | G22: आवंटित परीक्षार्थी | H22: उपस्थित परीक्षार्थी | I22: कुल बैच | J22: हस्ताक्षर
D23: से | E23: तक
A24: 1
A25: 2
A26: 3
A27: 4
A28: 5
A29: 6
A30: 7
A31: 8
A32: 9
A33: 10
A34: नोट-उक्त प्रपत्र की परीक्षाओं के समय पूर्ति करवाकर विद्यालय रिकॉर्ड पर सुरक्षित रखें | बोर्ड द्वारा आवश्यकता होने पर मंगवाया जा सकता है |
A36: (ब) शालाप्रधान का प्रमाणीकरण :-
A37: प्रमाणित किया जाता है कि उक्त बाह्रय परीक्षकों द्वारा प्रायोगिक परीक्षाएं मेरे सुपरविजन में बोर्ड की निर्धारित प्रक्रिया / नियमानुसार आयोजित करवाई गई |
A39: दिनांक - | D39: हस्ताक्षर
D40: नाम / पद / सील
D41: मोबाइल नं.

Sheet प्रपत्र-1
A1: प्रपत्र-1
A2: माध्यमिक शिक्षा बोर्ड राजस्थान , अजमेर
A3: परीक्षक का नाम-....................... | E3: परीक्षक संकेताक-.......................
A4: विषय-...................................... | E4: मूल वेतन-..................................
A5: प्रायोगिक परीक्षा बिल 2026
A6: क्र.सं. | B6: विद्यालय का नाम व कोड | D6: उपस्थित परीक्षार्थियों की संख्या | E6: परीक्षा दिनांक ........ से .......... तक | F6: संस्था प्रधान के हस्ताक्षर
A7: 1
A8: 2
A9: 3
A10: 4
A11: 5
A12: 6
A13: 7
A14: 8
A15: 9
A16: 10
A18: यात्रा विवरण
A19: रवानगी स्थान | C19: दिनांक व समय | D19: पहुँच स्थान | E19: दिनांक व समय | F19: दूरी किलो मीटर | G19: रेल / बस किराया | H19: दैनिक भत्ता
A29: स्थान :-................. | E29: हस्ताक्षर परीक्षक
A30: दिनांक:-................ | E30: नाम व परीक्षक कोड -..............................

Sheet परीक्षक प्रतिवेदन 
A1: माध्यमिक शिक्षा बोर्ड, राजस्थान, अजमेर
A2: उच्च माध्यमिक / वरिष्ठ उपाध्याय प्रायोगिक परीक्षा - 2026
A3: परीक्षक प्रतिवेदन
A5: परीक्षक संकेताक | I5: विषय- | L5: विषय कोड
A7: परीक्षक का नाम :- | I7: पदस्थापन-
A8: मो. नं. - | I8: ईमेल -
A10: 1. नाम विद्यालय जहां परीक्षा ली गई- | F10: =MASTER!A4 -> GOVT.SR.SEC.SCH., BUGIA SRI VIJAYNAGAR , GANGANAGAR
A11: लेब क्षमता | E11: आवंटित परीक्षार्थी | K11: उपस्थित परीक्षार्थी
A12: 2. उत्तीर्णता प्रतिशत प्रथम श्रेणी | G12: द्वितीय श्रेणी | J12: तृतीय श्रेणी | L12: अनुत्तीर्ण
A13: 3. विद्यालय में प्रयोगशाला की स्थिति बाबत टिप्पणी यदि प्रयोगशाला में कमियों है या सुधार बाबत सुझाव हो तो विस्तृत रूप से लिखे।
A15: 4. परीक्षार्थियों का वर्ष पर्यन्त प्रयोगशाला में कार्य करने आदि के संबंध में टिप्पणी :-
A17: 5. क्या प्रयोगशाला सुचारू रूप से व्यवस्थित एवं सभी वांछित संसाधनों से युक्त है। हाँ/नहीं
A19: 6. विद्यालय के शालाप्रधान, आंतरिक परीक्षक, प्रयोगशाला सहायक का सहयोग रहा हाँ/नहीं
A21: 7. अन्य सुझाव
J23: ह० परीक्षक
J24: नाम व पद
A26: नोट :-
A27: 1. उक्त प्रपत्र को OMR के साथ लिफाफा संख्या 19 (C) में रखकर भेजा जावे ।
A28: 2. किसी बिन्दु में स्थान कम रहने पर सादे कागज पर लिखकर संलग्न करें।
A29: 3. गम्भीर प्रकार की त्रुटियाँ/ कमियाँ होने पर पृथक से बोर्ड को एवम् जिला शिक्षा अधिकारी (माध्यमिक) को लिखित में सूचना दें। यह परीक्षक की जिम्मेदारी रहेगी।
A30: 4. परीक्षक को आवंटित प्रत्येक विद्यालय के लिये अलग-अलग प्रतिवेदन भरकर भेजा जावे। आवश्यकतानुसार फोटो प्रतियों करवा ली जावे।
