Workbook

Sheet Working Sheet Only 
A1: ifjf'k"V&^^d^^
A2: dk;kZy;&la;qDr funs'kd] Ldwy f'k{kk] --------------------------------------------------------------------
A3: egkRek xka/kh jktdh; fo|ky; ¼vaxzsth ek/;e½@jktdh; vaxzsth ek/;e fo|ky;ksa esa 'kklu ds ifji= fnukad% 14-06-2019 esa of.kZr ekun.Mkuqlkj dkfedksa ds fjDr inksa dk fo|ky;okj la[;k fooj.k %&
A4: uksV%& 1- dkWye la[;k 02 esa fo|ky; dk ,uvkbZlh dksM+ Hkjus ij dkWye la[;k 03]04]05 rFkk 08 dh ,UVªh Lor% gh iznf'kZr gks tk,xh]mDr iznf'kZr dk feyku dj 'ks"k dkWye dh lwpuk fo|ky;okj Hkjh tkuh gSA 2- dkWye la[;k 10 o 11 esa VACANT POST NAME & SUBJECT ds dkWye esa DROP DOWN iznf'kZr gksxk] ftlls lacaf/kr in@fo"k; dk p;u djsa] fo|ky; esa lapkfyr dksbZ in@fo"k; ;fn DROP DOWN esa inzf'kZr ugh gksus ij OTHER dk p;u dj dkWye la[;k 12 esa vafdr djsaA
A5: S.NO. | B5: NIC | C5: NAME OF SCHOOL | D5: zone 'kkyk niZ.k ds vuqlkj iqjkuk fMohtu@{ks= | E5: DISTRICT 'kkyk niZ.k ds vuqlkj iqjkuk ftyk | F5: zone 'kkyk niZ.k ds vuqlkj u;k fMohtu@{ks= | G5: DISTRICT 'kkyk niZ.k ds vuqlkj u;k ftyk | H5: ENGLISH CLASS LEVEL | I5: ;fn vkids Ldwy ds ENGLISH CLASS LEVEL eas ifjorZu gS rks bl dkWye dks Update djsaA vU;Fkk dqN u Hkjsa [kkyh NksM nsaA | J5: VACANT POST NAME | K5: SUBJECT | L5: VACANT POST NAME vxj fHkUu gks rks OTHER fodYi dk p;u djus ij fHkUu in dh izfof"V djsaA vU;Fkk dqN u Hkjsa [kkyh NksM nsaA | M5: VACANT POSTS
A6: 1 | B6: 2 | C6: 3 | D6: 4 | E6: 5 | F6: 6 | G6: 7 | H6: 8 | I6: 9 | J6: 10 | K6: 11 | L6: 12 | M6: 13
A7: 1 | B7: 211200 | C7: =VLOOKUP(B7,Sheet3!B:C,2,0) -> MAHATMA GANDHI GOVT. SCHOOL SINTHAL (211200) | D7: =VLOOKUP(B7,Sheet3!B:D,3,0) -> BIKANER | E7: =VLOOKUP(C7,Sheet3!C:E,3,0) -> BIKANER | H7: =VLOOKUP(B7,Sheet3!B:F,5,0) -> Nursery to 10 | J7: OTHER | L7: lab boy | AC7: AJMER | AD7: AJMER | AF7: 211108 | AG7: Agriculture (Science) - Agriculture Science (Agriculture Stream) | AH7: PRINCIPAL
A8: 2 | B8: 211129 | C8: =VLOOKUP(B8,Sheet3!B:C,2,0) -> MAHATMA GANDHI GOVT. SCHOOL NUKERA (211129) | D8: =VLOOKUP(B8,Sheet3!B:D,3,0) -> BIKANER | E8: =VLOOKUP(C8,Sheet3!C:E,3,0) -> HANUMANGARH | H8: =VLOOKUP(B8,Sheet3!B:F,5,0) -> Nursery to 10 | AC8: BHARATPUR | AD8: ALWAR | AF8: 211116 | AG8: Agriculture (Science) - Agro Biology | AH8: TEACHER LEVEL -1
A9: 3 | B9: 403522 | C9: =VLOOKUP(B9,Sheet3!B:C,2,0) -> MAHATMA GANDHI GOVT. SCHOOL GANDHI BHAWAN TOPDARA AJMER (403522) | D9: =VLOOKUP(B9,Sheet3!B:D,3,0) -> AJMER | E9: =VLOOKUP(C9,Sheet3!C:E,3,0) -> AJMER | H9: =VLOOKUP(B9,Sheet3!B:F,5,0) -> 1 to 6 | AC9: BIKANER | AD9: BANSWARA | AF9: 211129 | AG9: Agriculture (Science) - Agro Chemistry | AH9: TEACHER LEVEL -2
C10: =VLOOKUP(B10,Sheet3!B:C,2,0) -> #N/A | D10: =VLOOKUP(B10,Sheet3!B:D,3,0) -> #N/A | E10: =VLOOKUP(C10,Sheet3!C:E,3,0) -> #N/A | H10: =VLOOKUP(B10,Sheet3!B:F,5,0) -> #N/A | AC10: CHURU | AD10: BARAN | AF10: 211133 | AG10: Arts - Drawing | AH10: SENIOR TEACHER GRADE -2
C11: =VLOOKUP(B11,Sheet3!B:C,2,0) -> #N/A | D11: =VLOOKUP(B11,Sheet3!B:D,3,0) -> #N/A | E11: =VLOOKUP(C11,Sheet3!C:E,3,0) -> #N/A | H11: =VLOOKUP(B11,Sheet3!B:F,5,0) -> #N/A | AC11: JAIPUR | AD11: BARMER | AF11: 211174 | AG11: Arts - Economics (Arts Stream) | AH11: SENIOR PHYSICAL TEACHER
C12: =VLOOKUP(B12,Sheet3!B:C,2,0) -> #N/A | D12: =VLOOKUP(B12,Sheet3!B:D,3,0) -> #N/A | E12: =VLOOKUP(C12,Sheet3!C:E,3,0) -> #N/A | H12: =VLOOKUP(B12,Sheet3!B:F,5,0) -> #N/A | AC12: JODHPUR | AD12: BHARATPUR | AF12: 211200 | AG12: Arts - English Literature | AH12: LIBRARIAN
C13: =VLOOKUP(B13,Sheet3!B:C,2,0) -> #N/A | D13: =VLOOKUP(B13,Sheet3!B:D,3,0) -> #N/A | E13: =VLOOKUP(C13,Sheet3!C:E,3,0) -> #N/A | H13: =VLOOKUP(B13,Sheet3!B:F,5,0) -> #N/A | AC13: KOTA | AD13: BHILWARA | AF13: 211203 | AG13: Arts - Geography | AH13: LAB ASSISTANT
C14: =VLOOKUP(B14,Sheet3!B:C,2,0) -> #N/A | D14: =VLOOKUP(B14,Sheet3!B:D,3,0) -> #N/A | E14: =VLOOKUP(C14,Sheet3!C:E,3,0) -> #N/A | H14: =VLOOKUP(B14,Sheet3!B:F,5,0) -> #N/A | AC14: PALI | AD14: BIKANER | AF14: 211231 | AG14: Arts - Hindi Literature | AH14: COMPUTER INSTRUCTOR
C15: =VLOOKUP(B15,Sheet3!B:C,2,0) -> #N/A | D15: =VLOOKUP(B15,Sheet3!B:D,3,0) -> #N/A | E15: =VLOOKUP(C15,Sheet3!C:E,3,0) -> #N/A | H15: =VLOOKUP(B15,Sheet3!B:F,5,0) -> #N/A | AC15: UDAIPUR | AD15: BUNDI | AF15: 211234 | AG15: Arts - History | AH15: SENIOR ASSISTANT
C16: =VLOOKUP(B16,Sheet3!B:C,2,0) -> #N/A | D16: =VLOOKUP(B16,Sheet3!B:D,3,0) -> #N/A | E16: =VLOOKUP(C16,Sheet3!C:E,3,0) -> #N/A | H16: =VLOOKUP(B16,Sheet3!B:F,5,0) -> #N/A | AD16: CHITTAURGARH | AF16: 211266 | AG16: Arts - Home Science | AH16: JUNIOR ASSISTANT
C17: =VLOOKUP(B17,Sheet3!B:C,2,0) -> #N/A | D17: =VLOOKUP(B17,Sheet3!B:D,3,0) -> #N/A | E17: =VLOOKUP(C17,Sheet3!C:E,3,0) -> #N/A | H17: =VLOOKUP(B17,Sheet3!B:F,5,0) -> #N/A | AD17: CHURU | AF17: 211273 | AG17: Arts - Mathematics (Arts Stream) | AH17: CLASS IV
C18: =VLOOKUP(B18,Sheet3!B:C,2,0) -> #N/A | D18: =VLOOKUP(B18,Sheet3!B:D,3,0) -> #N/A | E18: =VLOOKUP(C18,Sheet3!C:E,3,0) -> #N/A | H18: =VLOOKUP(B18,Sheet3!B:F,5,0) -> #N/A | AD18: DAUSA | AF18: 211274 | AG18: Arts - Music (Gorge or Instrument) | AH18: OTHER
C19: =VLOOKUP(B19,Sheet3!B:C,2,0) -> #N/A | D19: =VLOOKUP(B19,Sheet3!B:D,3,0) -> #N/A | E19: =VLOOKUP(C19,Sheet3!C:E,3,0) -> #N/A | H19: =VLOOKUP(B19,Sheet3!B:F,5,0) -> #N/A | AD19: DHAULPUR | AF19: 211381 | AG19: Arts - Physical Education
C20: =VLOOKUP(B20,Sheet3!B:C,2,0) -> #N/A | D20: =VLOOKUP(B20,Sheet3!B:D,3,0) -> #N/A | E20: =VLOOKUP(C20,Sheet3!C:E,3,0) -> #N/A | H20: =VLOOKUP(B20,Sheet3!B:F,5,0) -> #N/A | AD20: DUNGARPUR | AF20: 211408 | AG20: Arts - Political Science
C21: =VLOOKUP(B21,Sheet3!B:C,2,0) -> #N/A | D21: =VLOOKUP(B21,Sheet3!B:D,3,0) -> #N/A | E21: =VLOOKUP(C21,Sheet3!C:E,3,0) -> #N/A | H21: =VLOOKUP(B21,Sheet3!B:F,5,0) -> #N/A | AD21: GANGANAGAR | AF21: 211427 | AG21: Arts - Public Administration
C22: =VLOOKUP(B22,Sheet3!B:C,2,0) -> #N/A | D22: =VLOOKUP(B22,Sheet3!B:D,3,0) -> #N/A | E22: =VLOOKUP(C22,Sheet3!C:E,3,0) -> #N/A | H22: =VLOOKUP(B22,Sheet3!B:F,5,0) -> #N/A | AD22: HANUMANGARH | AF22: 211434 | AG22: Arts - Punjabi Literature
C23: =VLOOKUP(B23,Sheet3!B:C,2,0) -> #N/A | D23: =VLOOKUP(B23,Sheet3!B:D,3,0) -> #N/A | E23: =VLOOKUP(C23,Sheet3!C:E,3,0) -> #N/A | H23: =VLOOKUP(B23,Sheet3!B:F,5,0) -> #N/A | AD23: JAIPUR | AF23: 211513 | AG23: Arts - Rajasthani Literature
C24: =VLOOKUP(B24,Sheet3!B:C,2,0) -> #N/A | D24: =VLOOKUP(B24,Sheet3!B:D,3,0) -> #N/A | E24: =VLOOKUP(C24,Sheet3!C:E,3,0) -> #N/A | H24: =VLOOKUP(B24,Sheet3!B:F,5,0) -> #N/A | AD24: JAISALMER | AF24: 211523 | AG24: Arts - Sanskrit Literature
C25: =VLOOKUP(B25,Sheet3!B:C,2,0) -> #N/A | D25: =VLOOKUP(B25,Sheet3!B:D,3,0) -> #N/A | E25: =VLOOKUP(C25,Sheet3!C:E,3,0) -> #N/A | H25: =VLOOKUP(B25,Sheet3!B:F,5,0) -> #N/A | AD25: JALOR | AF25: 211541 | AG25: Arts - Sindhi Literature
C26: =VLOOKUP(B26,Sheet3!B:C,2,0) -> #N/A | D26: =VLOOKUP(B26,Sheet3!B:D,3,0) -> #N/A | E26: =VLOOKUP(C26,Sheet3!C:E,3,0) -> #N/A | H26: =VLOOKUP(B26,Sheet3!B:F,5,0) -> #N/A | AD26: JHALAWAR | AF26: 211543 | AG26: Arts - Sociology
C27: =VLOOKUP(B27,Sheet3!B:C,2,0) -> #N/A | D27: =VLOOKUP(B27,Sheet3!B:D,3,0) -> #N/A | E27: =VLOOKUP(C27,Sheet3!C:E,3,0) -> #N/A | H27: =VLOOKUP(B27,Sheet3!B:F,5,0) -> #N/A | AD27: JHUNJHUNUN | AF27: 211556 | AG27: Arts - Urdu Literature
C28: =VLOOKUP(B28,Sheet3!B:C,2,0) -> #N/A | D28: =VLOOKUP(B28,Sheet3!B:D,3,0) -> #N/A | E28: =VLOOKUP(C28,Sheet3!C:E,3,0) -> #N/A | H28: =VLOOKUP(B28,Sheet3!B:F,5,0) -> #N/A | AD28: JODHPUR | AF28: 211560 | AG28: Commerce - Commerce (Accountancy)
C29: =VLOOKUP(B29,Sheet3!B:C,2,0) -> #N/A | D29: =VLOOKUP(B29,Sheet3!B:D,3,0) -> #N/A | E29: =VLOOKUP(C29,Sheet3!C:E,3,0) -> #N/A | H29: =VLOOKUP(B29,Sheet3!B:F,5,0) -> #N/A | AD29: KARAULI | AF29: 211575 | AG29: Commerce - Commerce (Business Studies)
C30: =VLOOKUP(B30,Sheet3!B:C,2,0) -> #N/A | D30: =VLOOKUP(B30,Sheet3!B:D,3,0) -> #N/A | E30: =VLOOKUP(C30,Sheet3!C:E,3,0) -> #N/A | H30: =VLOOKUP(B30,Sheet3!B:F,5,0) -> #N/A | AD30: KOTA | AF30: 211604 | AG30: Commerce - Commerce (Type Hindi & English)
... C39: =VLOOKUP(B39,Sheet3!B:C,2,0) -> #N/A | D39: =VLOOKUP(B39,Sheet3!B:D,3,0) -> #N/A | E39: =VLOOKUP(C39,Sheet3!C:E,3,0) -> #N/A | H39: =VLOOKUP(B39,Sheet3!B:F,5,0) -> #N/A | AD39: UDAIPUR | AF39: 211670 | AG39: Science - Mathematics (Science Stream)
C40: =VLOOKUP(B40,Sheet3!B:C,2,0) -> #N/A | D40: =VLOOKUP(B40,Sheet3!B:D,3,0) -> #N/A | E40: =VLOOKUP(C40,Sheet3!C:E,3,0) -> #N/A | H40: =VLOOKUP(B40,Sheet3!B:F,5,0) -> #N/A | AF40: 211672 | AG40: Science - Physics (Science Stream)
C41: =VLOOKUP(B41,Sheet3!B:C,2,0) -> #N/A | D41: =VLOOKUP(B41,Sheet3!B:D,3,0) -> #N/A | E41: =VLOOKUP(C41,Sheet3!C:E,3,0) -> #N/A | H41: =VLOOKUP(B41,Sheet3!B:F,5,0) -> #N/A | AF41: 211673 | AG41: Third Language - ---
C42: =VLOOKUP(B42,Sheet3!B:C,2,0) -> #N/A | D42: =VLOOKUP(B42,Sheet3!B:D,3,0) -> #N/A | E42: =VLOOKUP(C42,Sheet3!C:E,3,0) -> #N/A | H42: =VLOOKUP(B42,Sheet3!B:F,5,0) -> #N/A | AF42: 211678 | AG42: Third Language - Gujarati
C43: =VLOOKUP(B43,Sheet3!B:C,2,0) -> #N/A | D43: =VLOOKUP(B43,Sheet3!B:D,3,0) -> #N/A | E43: =VLOOKUP(C43,Sheet3!C:E,3,0) -> #N/A | H43: =VLOOKUP(B43,Sheet3!B:F,5,0) -> #N/A | AF43: 211679 | AG43: Third Language - None
C44: =VLOOKUP(B44,Sheet3!B:C,2,0) -> #N/A | D44: =VLOOKUP(B44,Sheet3!B:D,3,0) -> #N/A | E44: =VLOOKUP(C44,Sheet3!C:E,3,0) -> #N/A | H44: =VLOOKUP(B44,Sheet3!B:F,5,0) -> #N/A | AF44: 211680 | AG44: Third Language - Punjabi
C45: =VLOOKUP(B45,Sheet3!B:C,2,0) -> #N/A | D45: =VLOOKUP(B45,Sheet3!B:D,3,0) -> #N/A | E45: =VLOOKUP(C45,Sheet3!C:E,3,0) -> #N/A | H45: =VLOOKUP(B45,Sheet3!B:F,5,0) -> #N/A | AF45: 211684 | AG45: Third Language - Sanskrit
C46: =VLOOKUP(B46,Sheet3!B:C,2,0) -> #N/A | D46: =VLOOKUP(B46,Sheet3!B:D,3,0) -> #N/A | E46: =VLOOKUP(C46,Sheet3!C:E,3,0) -> #N/A | H46: =VLOOKUP(B46,Sheet3!B:F,5,0) -> #N/A | AF46: 211685 | AG46: Third Language - Sindhi
C47: =VLOOKUP(B47,Sheet3!B:C,2,0) -> #N/A | D47: =VLOOKUP(B47,Sheet3!B:D,3,0) -> #N/A | E47: =VLOOKUP(C47,Sheet3!C:E,3,0) -> #N/A | H47: =VLOOKUP(B47,Sheet3!B:F,5,0) -> #N/A | AF47: 211686 | AG47: Third Language - Urdu
C48: =VLOOKUP(B48,Sheet3!B:C,2,0) -> #N/A | D48: =VLOOKUP(B48,Sheet3!B:D,3,0) -> #N/A | E48: =VLOOKUP(C48,Sheet3!C:E,3,0) -> #N/A | H48: =VLOOKUP(B48,Sheet3!B:F,5,0) -> #N/A | AF48: 211689 | AG48: Vocational - Apparel Made-up & Home Furnishing
...

Sheet Sheet3
A1: sno. | B1: SCHCD | C1: School | D1: ZONE/DIVISION | E1: DISTRICT 'kkyk niZ.k ds vuqlkj iqjkuk ftyk | F1: UPDATED English Medium Class Level (2024-25) | G1: bal vatika | H1: English Medium Class Level (2023-24) | I1: English Medium Class Level (2024-25)
A2: 1744 | B2: 211108 | C2: MAHATMA GANDHI GOVT. SCHOOL SANGARIA (211108) | D2: BIKANER | E2: HANUMANGARH | F2: 1 to 10 | G2: No | H2: 1 to 9 | I2: 1 to 10
A3: 1734 | B3: 211116 | C3: MAHATMA GANDHI GOVT. SCHOOL DHABAN (211116) | D3: BIKANER | E3: HANUMANGARH | F3: Nursery to 10 | G3: Yes | H3: -3 to 9 | I3: -3 to 10
A4: 1745 | B4: 211129 | C4: MAHATMA GANDHI GOVT. SCHOOL NUKERA (211129) | D4: BIKANER | E4: HANUMANGARH | F4: Nursery to 10 | G4: Yes | H4: -3 to 9 | I4: -3 to 10
A5: 1746 | B5: 211133 | C5: MAHATMA GANDHI GOVT. SCHOOL RATANPURA (211133) | D5: BIKANER | E5: HANUMANGARH | F5: Nursery to 12 | G5: Yes | H5: -3 to 11 | I5: -3 to 12
A6: 1757 | B6: 211174 | C6: MAHATMA GANDHI GOVT. SCHOOL TIBBI (211174) | D6: BIKANER | E6: HANUMANGARH | F6: Nursery to 12 | G6: Yes | H6: -3 to 11 | I6: -3 to 12
A7: 947 | B7: 211200 | C7: MAHATMA GANDHI GOVT. SCHOOL SINTHAL (211200) | D7: BIKANER | E7: BIKANER | F7: Nursery to 10 | G7: Yes | H7: -3 to 9 | I7: -3 to 10
A8: 948 | B8: 211203 | C8: MAHATMA GANDHI GOVT. SCHOOL TEJRASAR (211203) | D8: BIKANER | E8: BIKANER | F8: Nursery to 10 | G8: Yes | H8: -3 to 9 | I8: -3 to 10
A9: 935 | B9: 211231 | C9: HALDIRAM GOVT. GIRLS SENIOR SECONDARY SCHOOL ENGLISH MEDIUM SOORSAGAR BIKANER (211231) | D9: BIKANER | E9: BIKANER | F9: Nursery to 11 | G9: Yes | H9: -3 to 10 | I9: -3 to 11
A10: 939 | B10: 211234 | C10: MAHATMA GANDHI GOVT. SCHOOL NAV TELIWARA (211234) | D10: BIKANER | E10: BIKANER | F10: Nursery to 7 | G10: Yes | H10: -3 to 6 | I10: -3 to 7
A11: 928 | B11: 211266 | C11: MAHATMA GANDHI GOVT. SCHOOL, MURLIDHAR VYAS NAGAR,BIKANER, (211266) | D11: BIKANER | E11: BIKANER | F11: Nursery to 12 | G11: Yes | H11: -3 to 12 | I11: -3 to 12
A12: 931 | B12: 211273 | C12: MAHATMA GANDHI GOVT. SCHOOL MUKTAPRASAD NAGAR BIKANER (211273) | D12: BIKANER | E12: BIKANER | F12: Nursery to 10 | G12: Yes | H12: -3 to 9 | I12: -3 to 10
A13: 1039 | B13: 211274 | C13: MAHATMA GANDHI GOVT. SCHOOL KELAN (211274) | D13: BIKANER | E13: BIKANER | F13: 1 to 6 | G13: No | H13: 1 to 5 | I13: 1 to 6
... A3738: 1313 | B3738: 532701 | C3738: MAHATMA GANDHI GOVT. SCHOOL ANJUMAN | D3738: CHURU | E3738: CHURU | F3738: 1 to 6 | G3738: No | H3738: 1 to 5 | I3738: 1 to 6

Sheet Sheet1
