Workbook

Sheet Working Sheet Only 
A1: ifjf'k"V&^^d^^
A2: dk;kZy;&la;qDr funs'kd] Ldwy f'k{kk] --------------------------------------------------------------------
A3: egkRek xka/kh jktdh; fo|ky; ¼vaxzsth ek/;e½@jktdh; vaxzsth ek/;e fo|ky;ksa esa 'kklu ds ifji= fnukad% 14-06-2019 esa of.kZr ekun.Mkuqlkj dkfedksa ds fjDr inksa dk fo|ky;okj la[;k fooj.k %&
A4: uksV%& 1- dkWye la[;k 02 esa fo|ky; dk ,uvkbZlh dksM+ Hkjus ij dkWye la[;k 03]04]05 rFkk 08 dh ,UVªh Lor% gh iznf'kZr gks tk,xh]mDr iznf'kZr dk feyku dj 'ks"k dkWye dh lwpuk fo|ky;okj Hkjh tkuh gSA 2- dkWye la[;k 10 o 11 esa VACANT POST NAME & SUBJECT ds dkWye esa DROP DOWN iznf'kZr gksxk] ftlls lacaf/kr in@fo"k; dk p;u djsa] fo|ky; esa lapkfyr dksbZ in@fo"k; ;fn DROP DOWN esa inzf'kZr ugh gksus ij OTHER dk p;u dj dkWye la[;k 12 esa vafdr djsaA
A5: S.NO. | B5: NIC | C5: NAME OF SCHOOL | D5: zone 'kkyk niZ.k ds vuqlkj iqjkuk fMohtu@{ks= | E5: DISTRICT 'kkyk niZ.k ds vuqlkj iqjkuk ftyk | F5: zone 'kkyk niZ.k ds vuqlkj u;k fMohtu@{ks= | G5: DISTRICT 'kkyk niZ.k ds vuqlkj u;k ftyk | H5: ENGLISH CLASS LEVEL | I5: ;fn vkids Ldwy ds ENGLISH CLASS LEVEL eas ifjorZu gS rks bl dkWye dks Update djsaA vU;Fkk dqN u Hkjsa [kkyh NksM nsaA | J5: VACANT POST NAME | K5: SUBJECT | L5: VACANT POST NAME vxj fHkUu gks rks OTHER fodYi dk p;u djus ij fHkUu in dh izfof"V djsaA vU;Fkk dqN u Hkjsa [kkyh NksM nsaA | M5: VACANT POSTS
A6: 1 | B6: 2 | C6: 3 | D6: 4 | E6: 5 | F6: 6 | G6: 7 | H6: 8 | I6: 9 | J6: 10 | K6: 11 | L6: 12 | M6: 13
A7: 1 | B7: 211200 | C7: =VLOOKUP(B7,Sheet3!B:C,2,0) -> MAHATMA GANDHI GOVT. SCHOOL SINTHAL (211200) | D7: =VLOOKUP(B7,Sheet3!B:D,3,0) -> BIKANER | E7: =VLOOKUP(C7,Sheet3!C:E,3,0) -> BIKANER | H7: =VLOOKUP(B7,Sheet3!B:F,5,0) -> Nursery to 10 | J7: OTHER | L7: lab boy | AC7: AJMER | AD7: AJMER | AF7: 211108 | AG7: Agriculture (Science) - Agriculture Science (Agriculture Stream) | AH7: PRINCIPAL
A8: 2 | B8: 211129 | C8: =VLOOKUP(B8,Sheet3!B:C,2,0) -> MAHATMA GANDHI GOVT. SCHOOL NUKERA (211129) | D8: =VLOOKUP(B8,Sheet3!B:D,3,0) -> BIKANER | E8: =VLOOKUP(C8,Sheet3!C:E,3,0) -> HANUMANGARH | H8: =VLOOKUP(B8,Sheet3!B:F,5,0) -> Nursery to 10 | AC8: BHARATPUR | AD8: ALWAR | AF8: 211116 | AG8: Agriculture (Science) - Agro Biology | AH8: TEACHER LEVEL -1
A9: 3 | B9: 403522 | C9: =VLOOKUP(B9,Sheet3!B:C,2,0) -> MAHATMA GANDHI GOVT. SCHOOL GANDHI BHAWAN TOPDARA AJMER (403522) | D9: =VLOOKUP(B9,Sheet3!B:D,3,0) -> AJMER | E9: =VLOOKUP(C9,Sheet3!C:E,3,0) -> AJMER | H9: =VLOOKUP(B9,Sheet3!B:F,5,0) -> 1 to 6 | AC9: BIKANER | AD9: BANSWARA | AF9: 211129 | AG9: Agriculture (Science) - Agro Chemistry | AH9: TEACHER LEVEL -2
C10: =VLOOKUP(B10,Sheet3!B:C,2,0) -> #N/A | D10: =VLOOKUP(B10,Sheet3!B:D,3,0) -> #N/A | E10: =VLOOKUP(C10,Sheet3!C:E,3,0) -> #N/A | H10: =VLOOKUP(B10,Sheet3!B:F,5,0) -> #N/A | AC10: CHURU | AD10: BARAN | AF10: 211133 | AG10: Arts - Drawing | AH10: SENIOR TEACHER GRADE -2
C11: =VLOOKUP(B11,Sheet3!B:C,2,0) -> #N/A | D11: =VLOOKUP(B11,Sheet3!B:D,3,0) -> #N/A | E11: =VLOOKUP(C11,Sheet3!C:E,3,0) -> #N/A | H11: =VLOOKUP(B11,Sheet3!B:F,5,0) -> #N/A | AC11: JAIPUR | AD11: BARMER | AF11: 211174 | AG11: Arts - Economics (Arts Stream) | AH11: SENIOR PHYSICAL TEACHER
C12: =VLOOKUP(B12,Sheet3!B:C,2,0) -> #N/A | D12: =VLOOKUP(B12,Sheet3!B:D,3,0) -> #N/A | E12: =VLOOKUP(C12,Sheet3!C:E,3,0) -> #N/A | H12: =VLOOKUP(B12,Sheet3!B:F,5,0) -> #N/A | AC12: JODHPUR | AD12: BHARATPUR | AF12: 211200 | AG12: Arts - English Literature | AH12: LIBRARIAN
C13: =VLOOKUP(B13,Sheet3!B:C,2,0) -> #N/A | D13: =VLOOKUP(B13,Sheet3!B:D,3,0) -> #N/A | E13: =VLOOKUP(C13,Sheet3!C:E,3,0) -> #N/A | H13: =VLOOKUP(B13,Sheet3!B:F,5,0) -> #N/A | AC13: KOTA | AD13: BHILWARA | AF13: 211203 | AG13: Arts - Geography | AH13: LAB ASSISTANT
C14: =VLOOKUP(B14,Sheet3!B:C,2,0) -> #N/A | D14: =VLOOKUP(B14,Sheet3!B:D,3,0) -> #N/A | E14: =VLOOKUP(C14,Sheet3!C:E,3,0) -> #N/A | H14: =VLOOKUP(B14,Sheet3!B:F,5,0) -> #N/A | AC14: PALI | AD14: BIKANER | AF14: 211231 | AG14: Arts - Hindi Literature | AH14: COMPUTER INSTRUCTOR
C15: =VLOOKUP(B15,Sheet3!B:C,2,0) -> #N/A | D15: =VLOOKUP(B15,Sheet3!B:D,3,0) -> #N/A | E15: =VLOOKUP(C15,Sheet3!C:E,3,0) -> #N/A | H15: =VLOOKUP(B15,Sheet3!B:F,5,0) -> #N/A | AC15: UDAIPUR | AD15: BUNDI | AF15: 211234 | AG15: Arts - History | AH15: SENIOR ASSISTANT
C16: =VLOOKUP(B16,Sheet3!B:C,2,0) -> #N/A | D16: =VLOOKUP(B16,Sheet3!B:D,3,0) -> #N/A | E16: =VLOOKUP(C16,Sheet3!C:E,3,0) -> #N/A | H16: =VLOOKUP(B16,Sheet3!B:F,5,0) -> #N/A | AD16: CHITTAURGARH | AF16: 211266 | AG16: Arts - Home Science | AH16: JUNIOR ASSISTANT
C17: =VLOOKUP(B17,Sheet3!B:C,2,0) -> #N/A | D17: =VLOOKUP(B17,Sheet3!B:D,3,0) -> #N/A | E17: =VLOOKUP(C17,Sheet3!C:E,3,0) -> #N/A | H17: =VLOOKUP(B17,Sheet3!B:F,5,0) -> #N/A | AD17: CHURU | AF17: 211273 | AG17: Arts - Mathematics (Arts Stream) | AH17: CLASS IV
C18: =VLOOKUP(B18,Sheet3!B:C,2,0) -> #N/A | D18: =VLOOKUP(B18,Sheet3!B:D,3,0) -> #N/A | E18: =VLOOKUP(C18,Sheet3!C:E,3,0) -> #N/A | H18: =VLOOKUP(B18,Sheet3!B:F,5,0) -> #N/A | AD18: DAUSA | AF18: 211274 | AG18: Arts - Music (Gorge or Instrument) | AH18: OTHER
C19: =VLOOKUP(B19,Sheet3!B:C,2,0) -> #N/A | D19: =VLOOKUP(B19,Sheet3!B:D,3,0) -> #N/A | E19: =VLOOKUP(C19,Sheet3!C:E,3,0) -> #N/A | H19: =VLOOKUP(B19,Sheet3!B:F,5,0) -> #N/A | AD19: DHAULPUR | AF19: 211381 | AG19: Arts - Physical Education
C20: =VLOOKUP(B20,Sheet3!B:C,2,0) -> #N/A | D20: =VLOOKUP(B20,Sheet3!B:D,3,0) -> #N/A | E20: =VLOOKUP(C20,Sheet3!C:E,3,0) -> #N/A | H20: =VLOOKUP(B20,Sheet3!B:F,5,0) -> #N/A | AD20: DUNGARPUR | AF20: 211408 | AG20: Arts - Political Science
C21: =VLOOKUP(B21,Sheet3!B:C,2,0) -> #N/A | D21: =VLOOKUP(B21,Sheet3!B:D,3,0) -> #N/A | E21: =VLOOKUP(C21,Sheet3!C:E,3,0) -> #N/A | H21: =VLOOKUP(B21,Sheet3!B:F,5,0) -> #N/A | AD21: GANGANAGAR | AF21: 211427 | AG21: Arts - Public Administration
C22: =VLOOKUP(B22,Sheet3!B:C,2,0) -> #N/A | D22: =VLOOKUP(B22,Sheet3!B:D,3,0) -> #N/A | E22: =VLOOKUP(C22,Sheet3!C:E,3,0) -> #N/A | H22: =VLOOKUP(B22,Sheet3!B:F,5,0) -> #N/A | AD22: HANUMANGARH | AF22: 211434 | AG22: Arts - Punjabi Literature
C23: =VLOOKUP(B23,Sheet3!B:C,2,0) -> #N/A | D23: =VLOOKUP(B23,Sheet3!B:D,3,0) -> #N/A | E23: =VLOOKUP(C23,Sheet3!C:E,3,0) -> #N/A | H23: =VLOOKUP(B23,Sheet3!B:F,5,0) -> #N/A | AD23: JAIPUR | AF23: 211513 | AG23: Arts - Rajasthani Literature
C24: =VLOOKUP(B24,Sheet3!B:C,2,0) -> #N/A | D24: =VLOOKUP(B24,Sheet3!B:D,3,0) -> #N/A | E24: =VLOOKUP(C24,Sheet3!C:E,3,0) -> #N/A | H24: =VLOOKUP(B24,Sheet3!B:F,5,0) -> #N/A | AD24: JAISALMER | AF24: 211523 | AG24: Arts - Sanskrit Literature
C25: =VLOOKUP(B25,Sheet3!B:C,2,0) -> #N/A | D25: =VLOOKUP(B25,Sheet3!B:D,3,0) -> #N/A | E25: =VLOOKUP(C25,Sheet3!C:E,3,0) -> #N/A | H25: =VLOOKUP(B25,Sheet3!B:F,5,0) -> #N/A | AD25: JALOR | AF25: 211541 | AG25: Arts - Sindhi Literature
C26: =VLOOKUP(B26,Sheet3!B:C,2,0) -> #N/A | D26: =VLOOKUP(B26,Sheet3!B:D,3,0) -> #N/A | E26: =VLOOKUP(C26,Sheet3!C:E,3,0) -> #N/A | H26: =VLOOKUP(B26,Sheet3!B:F,5,0) -> #N/A | AD26: JHALAWAR | AF26: 211543 | AG26: Arts - Sociology
C27: =VLOOKUP(B27,Sheet3!B:C,2,0) -> #N/A | D27: =VLOOKUP(B27,Sheet3!B:D,3,0) -> #N/A | E27: =VLOOKUP(C27,Sheet3!C:E,3,0) -> #N/A | H27: =VLOOKUP(B27,Sheet3!B:F,5,0) -> #N/A | AD27: JHUNJHUNUN | AF27: 211556 | AG27: Arts - Urdu Literature
C28: =VLOOKUP(B28,Sheet3!B:C,2,0) -> #N/A | D28: =VLOOKUP(B28,Sheet3!B:D,3,0) -> #N/A | E28: =VLOOKUP(C28,Sheet3!C:E,3,0) -> #N/A | H28: =VLOOKUP(B28,Sheet3!B:F,5,0) -> #N/A | AD28: JODHPUR | AF28: 211560 | AG28: Commerce - Commerce (Accountancy)
C29: =VLOOKUP(B29,Sheet3!B:C,2,0) -> #N/A | D29: =VLOOKUP(B29,Sheet3!B:D,3,0) -> #N/A | E29: =VLOOKUP(C29,Sheet3!C:E,3,0) -> #N/A | H29: =VLOOKUP(B29,Sheet3!B:F,5,0) -> #N/A | AD29: KARAULI | AF29: 211575 | AG29: Commerce - Commerce (Business Studies)
C30: =VLOOKUP(B30,Sheet3!B:C,2,0) -> #N/A | D30: =VLOOKUP(B30,Sheet3!B:D,3,0) -> #N/A | E30: =VLOOKUP(C30,Sheet3!C:E,3,0) -> #N/A | H30: =VLOOKUP(B30,Sheet3!B:F,5,0) -> #N/A | AD30: KOTA | AF30: 211604 | AG30: Commerce - Commerce (Type Hindi & English)
... C39: =VLOOKUP(B39,Sheet3!B:C,2,0) -> #N/A | D39: =VLOOKUP(B39,Sheet3!B:D,3,0) -> #N/A | E39: =VLOOKUP(C39,Sheet3!C:E,3,0) -> #N/A | H39: =VLOOKUP(B39,Sheet3!B:F,5,0) -> #N/A | AD39: UDAIPUR | AF39: 211670 | AG39: Science - Mathematics (Science Stream)
C40: =VLOOKUP(B40,Sheet3!B:C,2,0) -> #N/A | D40: =VLOOKUP(B40,Sheet3!B:D,3,0) -> #N/A | E40: =VLOOKUP(C40,Sheet3!C:E,3,0) -> #N/A | H40: =VLOOKUP(B40,Sheet3!B:F,5,0) -> #N/A | AF40: 211672 | AG40: Science - Physics (Science Stream)
C41: =VLOOKUP(B41,Sheet3!B:C,2,0) -> #N/A | D41: =VLOOKUP(B41,Sheet3!B:D,3,0) -> #N/A | E41: =VLOOKUP(C41,Sheet3!C:E,3,0) -> #N/A | H41: =VLOOKUP(B41,Sheet3!B:F,5,0) -> #N/A | AF41: 211673 | AG41: Third Language - ---
C42: =VLOOKUP(B42,Sheet3!B:C,2,0) -> #N/A | D42: =VLOOKUP(B42,Sheet3!B:D,3,0) -> #N/A | E42: =VLOOKUP(C42,Sheet3!C:E,3,0) -> #N/A | H42: =VLOOKUP(B42,Sheet3!B:F,5,0) -> #N/A | AF42: 211678 | AG42: Third Language - Gujarati
C43: =VLOOKUP(B43,Sheet3!B:C,2,0) -> #N/A | D43: =VLOOKUP(B43,Sheet3!B:D,3,0) -> #N/A | E43: =VLOOKUP(C43,Sheet3!C:E,3,0) -> #N/A | H43: =VLOOKUP(B43,Sheet3!B:F,5,0) -> #N/A | AF43: 211679 | AG43: Third Language - None
C44: =VLOOKUP(B44,Sheet3!B:C,2,0) -> #N/A | D44: =VLOOKUP(B44,Sheet3!B:D,3,0) -> #N/A | E44: =VLOOKUP(C44,Sheet3!C:E,3,0) -> #N/A | H44: =VLOOKUP(B44,Sheet3!B:F,5,0) -> #N/A | AF44: 211680 | AG44: Third Language - Punjabi
C45: =VLOOKUP(B45,Sheet3!B:C,2,0) -> #N/A | D45: =VLOOKUP(B45,Sheet3!B:D,3,0) -> #N/A | E45: =VLOOKUP(C45,Sheet3!C:E,3,0) -> #N/A | H45: =VLOOKUP(B45,Sheet3!B:F,5,0) -> #N/A | AF45: 211684 | AG45: Third Language - Sanskrit
C46: =VLOOKUP(B46,Sheet3!B:C,2,0) -> #N/A | D46: =VLOOKUP(B46,Sheet3!B:D,3,0) -> #N/A | E46: =VLOOKUP(C46,Sheet3!C:E,3,0) -> #N/A | H46: =VLOOKUP(B46,Sheet3!B:F,5,0) -> #N/A | AF46: 211685 | AG46: Third Language - Sindhi
C47: =VLOOKUP(B47,Sheet3!B:C,2,0) -> #N/A | D47: =VLOOKUP(B47,Sheet3!B:D,3,0) -> #N/A | E47: =VLOOKUP(C47,Sheet3!C:E,3,0) -> #N/A | H47: =VLOOKUP(B47,Sheet3!B:F,5,0) -> #N/A | AF47: 211686 | AG47: Third Language - Urdu
C48: =VLOOKUP(B48,Sheet3!B:C,2,0) -> #N/A | D48: =VLOOKUP(B48,Sheet3!B:D,3,0) -> #N/A | E48: =VLOOKUP(C48,Sheet3!C:E,3,0) -> #N/A | H48: =VLOOKUP(B48,Sheet3!B:F,5,0) -> #N/A | AF48: 211689 | AG48: Vocational - Apparel Made-up & Home Furnishing
C49: =VLOOKUP(B49,Sheet3!B:C,2,0) -> #N/A | D49: =VLOOKUP(B49,Sheet3!B:D,3,0) -> #N/A | E49: =VLOOKUP(C49,Sheet3!C:E,3,0) -> #N/A | H49: =VLOOKUP(B49,Sheet3!B:F,5,0) -> #N/A | AF49: 211690 | AG49: Vocational - Automobile / Automotive
C50: =VLOOKUP(B50,Sheet3!B:C,2,0) -> #N/A | D50: =VLOOKUP(B50,Sheet3!B:D,3,0) -> #N/A | E50: =VLOOKUP(C50,Sheet3!C:E,3,0) -> #N/A | H50: =VLOOKUP(B50,Sheet3!B:F,5,0) -> #N/A | AF50: 211691 | AG50: Vocational - Banking - Financial Services & Insurance
C51: =VLOOKUP(B51,Sheet3!B:C,2,0) -> #N/A | D51: =VLOOKUP(B51,Sheet3!B:D,3,0) -> #N/A | E51: =VLOOKUP(C51,Sheet3!C:E,3,0) -> #N/A | H51: =VLOOKUP(B51,Sheet3!B:F,5,0) -> #N/A | AF51: 211693 | AG51: Vocational - Beauty & Wellness
... C62: =VLOOKUP(B62,Sheet3!B:C,2,0) -> #N/A | D62: =VLOOKUP(B62,Sheet3!B:D,3,0) -> #N/A | E62: =VLOOKUP(C62,Sheet3!C:E,3,0) -> #N/A | H62: =VLOOKUP(B62,Sheet3!B:F,5,0) -> #N/A | AF62: 211731 | AG62: Vocational - Travel & Tourism / Tourism & Hospitality
C63: =VLOOKUP(B63,Sheet3!B:C,2,0) -> #N/A | D63: =VLOOKUP(B63,Sheet3!B:D,3,0) -> #N/A | E63: =VLOOKUP(C63,Sheet3!C:E,3,0) -> #N/A | H63: =VLOOKUP(B63,Sheet3!B:F,5,0) -> #N/A | AF63: 211732
C64: =VLOOKUP(B64,Sheet3!B:C,2,0) -> #N/A | D64: =VLOOKUP(B64,Sheet3!B:D,3,0) -> #N/A | E64: =VLOOKUP(C64,Sheet3!C:E,3,0) -> #N/A | H64: =VLOOKUP(B64,Sheet3!B:F,5,0) -> #N/A | AF64: 211737
C65: =VLOOKUP(B65,Sheet3!B:C,2,0) -> #N/A | D65: =VLOOKUP(B65,Sheet3!B:D,3,0) -> #N/A | E65: =VLOOKUP(C65,Sheet3!C:E,3,0) -> #N/A | H65: =VLOOKUP(B65,Sheet3!B:F,5,0) -> #N/A | AF65: 211740
C66: =VLOOKUP(B66,Sheet3!B:C,2,0) -> #N/A | D66: =VLOOKUP(B66,Sheet3!B:D,3,0) -> #N/A | E66: =VLOOKUP(C66,Sheet3!C:E,3,0) -> #N/A | H66: =VLOOKUP(B66,Sheet3!B:F,5,0) -> #N/A | AF66: 211742
C67: =VLOOKUP(B67,Sheet3!B:C,2,0) -> #N/A | D67: =VLOOKUP(B67,Sheet3!B:D,3,0) -> #N/A | E67: =VLOOKUP(C67,Sheet3!C:E,3,0) -> #N/A | H67: =VLOOKUP(B67,Sheet3!B:F,5,0) -> #N/A | AF67: 211756
C68: =VLOOKUP(B68,Sheet3!B:C,2,0) -> #N/A | D68: =VLOOKUP(B68,Sheet3!B:D,3,0) -> #N/A | E68: =VLOOKUP(C68,Sheet3!C:E,3,0) -> #N/A | H68: =VLOOKUP(B68,Sheet3!B:F,5,0) -> #N/A | AF68: 211760
C69: =VLOOKUP(B69,Sheet3!B:C,2,0) -> #N/A | D69: =VLOOKUP(B69,Sheet3!B:D,3,0) -> #N/A | E69: =VLOOKUP(C69,Sheet3!C:E,3,0) -> #N/A | H69: =VLOOKUP(B69,Sheet3!B:F,5,0) -> #N/A | AF69: 211762
C70: =VLOOKUP(B70,Sheet3!B:C,2,0) -> #N/A | D70: =VLOOKUP(B70,Sheet3!B:D,3,0) -> #N/A | E70: =VLOOKUP(C70,Sheet3!C:E,3,0) -> #N/A | H70: =VLOOKUP(B70,Sheet3!B:F,5,0) -> #N/A | AF70: 211765
C71: =VLOOKUP(B71,Sheet3!B:C,2,0) -> #N/A | D71: =VLOOKUP(B71,Sheet3!B:D,3,0) -> #N/A | E71: =VLOOKUP(C71,Sheet3!C:E,3,0) -> #N/A | H71: =VLOOKUP(B71,Sheet3!B:F,5,0) -> #N/A | AF71: 211768
C72: =VLOOKUP(B72,Sheet3!B:C,2,0) -> #N/A | D72: =VLOOKUP(B72,Sheet3!B:D,3,0) -> #N/A | E72: =VLOOKUP(C72,Sheet3!C:E,3,0) -> #N/A | H72: =VLOOKUP(B72,Sheet3!B:F,5,0) -> #N/A | AF72: 211787
C73: =VLOOKUP(B73,Sheet3!B:C,2,0) -> #N/A | D73: =VLOOKUP(B73,Sheet3!B:D,3,0) -> #N/A | E73: =VLOOKUP(C73,Sheet3!C:E,3,0) -> #N/A | H73: =VLOOKUP(B73,Sheet3!B:F,5,0) -> #N/A | AF73: 211788
C74: =VLOOKUP(B74,Sheet3!B:C,2,0) -> #N/A | D74: =VLOOKUP(B74,Sheet3!B:D,3,0) -> #N/A | E74: =VLOOKUP(C74,Sheet3!C:E,3,0) -> #N/A | H74: =VLOOKUP(B74,Sheet3!B:F,5,0) -> #N/A | AF74: 211797
... C2751: =VLOOKUP(B2751,Sheet3!B:C,2,0) -> #N/A | D2751: =VLOOKUP(B2751,Sheet3!B:D,3,0) -> #N/A | E2751: =VLOOKUP(C2751,Sheet3!C:E,3,0) -> #N/A | H2751: =VLOOKUP(B2751,Sheet3!B:F,5,0) -> #N/A | AF2751: 488146
D2752: =VLOOKUP(B2752,Sheet3!B:D,3,0) -> #N/A | E2752: =VLOOKUP(C2752,Sheet3!C:E,3,0) -> #N/A | H2752: =VLOOKUP(B2752,Sheet3!B:F,5,0) -> #N/A | AF2752: 488322
D2753: =VLOOKUP(B2753,Sheet3!B:D,3,0) -> #N/A | E2753: =VLOOKUP(C2753,Sheet3!C:E,3,0) -> #N/A | H2753: =VLOOKUP(B2753,Sheet3!B:F,5,0) -> #N/A | AF2753: 488427
D2754: =VLOOKUP(B2754,Sheet3!B:D,3,0) -> #N/A | E2754: =VLOOKUP(C2754,Sheet3!C:E,3,0) -> #N/A | H2754: =VLOOKUP(B2754,Sheet3!B:F,5,0) -> #N/A | AF2754: 488434
D2755: =VLOOKUP(B2755,Sheet3!B:D,3,0) -> #N/A | E2755: =VLOOKUP(C2755,Sheet3!C:E,3,0) -> #N/A | H2755: =VLOOKUP(B2755,Sheet3!B:F,5,0) -> #N/A | AF2755: 488449
D2756: =VLOOKUP(B2756,Sheet3!B:D,3,0) -> #N/A | E2756: =VLOOKUP(C2756,Sheet3!C:E,3,0) -> #N/A | H2756: =VLOOKUP(B2756,Sheet3!B:F,5,0) -> #N/A | AF2756: 488504
D2757: =VLOOKUP(B2757,Sheet3!B:D,3,0) -> #N/A | E2757: =VLOOKUP(C2757,Sheet3!C:E,3,0) -> #N/A | H2757: =VLOOKUP(B2757,Sheet3!B:F,5,0) -> #N/A | AF2757: 488512
D2758: =VLOOKUP(B2758,Sheet3!B:D,3,0) -> #N/A | E2758: =VLOOKUP(C2758,Sheet3!C:E,3,0) -> #N/A | H2758: =VLOOKUP(B2758,Sheet3!B:F,5,0) -> #N/A | AF2758: 488643
D2759: =VLOOKUP(B2759,Sheet3!B:D,3,0) -> #N/A | E2759: =VLOOKUP(C2759,Sheet3!C:E,3,0) -> #N/A | H2759: =VLOOKUP(B2759,Sheet3!B:F,5,0) -> #N/A | AF2759: 488644
D2760: =VLOOKUP(B2760,Sheet3!B:D,3,0) -> #N/A | E2760: =VLOOKUP(C2760,Sheet3!C:E,3,0) -> #N/A | H2760: =VLOOKUP(B2760,Sheet3!B:F,5,0) -> #N/A | AF2760: 488723
D2761: =VLOOKUP(B2761,Sheet3!B:D,3,0) -> #N/A | E2761: =VLOOKUP(C2761,Sheet3!C:E,3,0) -> #N/A | H2761: =VLOOKUP(B2761,Sheet3!B:F,5,0) -> #N/A | AF2761: 488724
D2762: =VLOOKUP(B2762,Sheet3!B:D,3,0) -> #N/A | E2762: =VLOOKUP(C2762,Sheet3!C:E,3,0) -> #N/A | H2762: =VLOOKUP(B2762,Sheet3!B:F,5,0) -> #N/A | AF2762: 488746
D2763: =VLOOKUP(B2763,Sheet3!B:D,3,0) -> #N/A | E2763: =VLOOKUP(C2763,Sheet3!C:E,3,0) -> #N/A | H2763: =VLOOKUP(B2763,Sheet3!B:F,5,0) -> #N/A | AF2763: 488803
... D3743: =VLOOKUP(B3743,Sheet3!B:D,3,0) -> #N/A | E3743: =VLOOKUP(C3743,Sheet3!C:E,3,0) -> #N/A | H3743: =VLOOKUP(B3743,Sheet3!B:F,5,0) -> #N/A | AF3743: 532701
D3744: =VLOOKUP(B3744,Sheet3!B:D,3,0) -> #N/A | E3744: =VLOOKUP(C3744,Sheet3!C:E,3,0) -> #N/A | H3744: =VLOOKUP(B3744,Sheet3!B:F,5,0) -> #N/A
D3745: =VLOOKUP(B3745,Sheet3!B:D,3,0) -> #N/A | E3745: =VLOOKUP(C3745,Sheet3!C:E,3,0) -> #N/A | H3745: =VLOOKUP(B3745,Sheet3!B:F,5,0) -> #N/A
D3746: =VLOOKUP(B3746,Sheet3!B:D,3,0) -> #N/A | E3746: =VLOOKUP(C3746,Sheet3!C:E,3,0) -> #N/A | H3746: =VLOOKUP(B3746,Sheet3!B:F,5,0) -> #N/A
D3747: =VLOOKUP(B3747,Sheet3!B:D,3,0) -> #N/A | E3747: =VLOOKUP(C3747,Sheet3!C:E,3,0) -> #N/A | H3747: =VLOOKUP(B3747,Sheet3!B:F,5,0) -> #N/A
D3748: =VLOOKUP(B3748,Sheet3!B:D,3,0) -> #N/A | E3748: =VLOOKUP(C3748,Sheet3!C:E,3,0) -> #N/A | H3748: =VLOOKUP(B3748,Sheet3!B:F,5,0) -> #N/A
D3749: =VLOOKUP(B3749,Sheet3!B:D,3,0) -> #N/A | E3749: =VLOOKUP(C3749,Sheet3!C:E,3,0) -> #N/A | H3749: =VLOOKUP(B3749,Sheet3!B:F,5,0) -> #N/A
D3750: =VLOOKUP(B3750,Sheet3!B:D,3,0) -> #N/A | E3750: =VLOOKUP(C3750,Sheet3!C:E,3,0) -> #N/A | H3750: =VLOOKUP(B3750,Sheet3!B:F,5,0) -> #N/A
D3751: =VLOOKUP(B3751,Sheet3!B:D,3,0) -> #N/A | E3751: =VLOOKUP(C3751,Sheet3!C:E,3,0) -> #N/A | H3751: =VLOOKUP(B3751,Sheet3!B:F,5,0) -> #N/A
D3752: =VLOOKUP(B3752,Sheet3!B:D,3,0) -> #N/A | E3752: =VLOOKUP(C3752,Sheet3!C:E,3,0) -> #N/A | H3752: =VLOOKUP(B3752,Sheet3!B:F,5,0) -> #N/A
D3753: =VLOOKUP(B3753,Sheet3!B:D,3,0) -> #N/A | E3753: =VLOOKUP(C3753,Sheet3!C:E,3,0) -> #N/A | H3753: =VLOOKUP(B3753,Sheet3!B:F,5,0) -> #N/A
D3754: =VLOOKUP(B3754,Sheet3!B:D,3,0) -> #N/A | E3754: =VLOOKUP(C3754,Sheet3!C:E,3,0) -> #N/A | H3754: =VLOOKUP(B3754,Sheet3!B:F,5,0) -> #N/A
D3755: =VLOOKUP(B3755,Sheet3!B:D,3,0) -> #N/A | E3755: =VLOOKUP(C3755,Sheet3!C:E,3,0) -> #N/A | H3755: =VLOOKUP(B3755,Sheet3!B:F,5,0) -> #N/A
... D6749: =VLOOKUP(B6749,Sheet3!B:D,3,0) -> #N/A | E6749: =VLOOKUP(C6749,Sheet3!C:E,3,0) -> #N/A | H6749: =VLOOKUP(B6749,Sheet3!B:F,5,0) -> #N/A
D6750: =VLOOKUP(B6750,Sheet3!B:D,3,0) -> #N/A | E6750: =VLOOKUP(C6750,Sheet3!C:E,3,0) -> #N/A

Sheet Sheet3
A1: sno. | B1: SCHCD | C1: School | D1: ZONE/DIVISION | E1: DISTRICT 'kkyk niZ.k ds vuqlkj iqjkuk ftyk | F1: UPDATED English Medium Class Level (2024-25) | G1: bal vatika | H1: English Medium Class Level (2023-24) | I1: English Medium Class Level (2024-25)
A2: 1744 | B2: 211108 | C2: MAHATMA GANDHI GOVT. SCHOOL SANGARIA (211108) | D2: BIKANER | E2: HANUMANGARH | F2: 1 to 10 | G2: No | H2: 1 to 9 | I2: 1 to 10
A3: 1734 | B3: 211116 | C3: MAHATMA GANDHI GOVT. SCHOOL DHABAN (211116) | D3: BIKANER | E3: HANUMANGARH | F3: Nursery to 10 | G3: Yes | H3: -3 to 9 | I3: -3 to 10
A4: 1745 | B4: 211129 | C4: MAHATMA GANDHI GOVT. SCHOOL NUKERA (211129) | D4: BIKANER | E4: HANUMANGARH | F4: Nursery to 10 | G4: Yes | H4: -3 to 9 | I4: -3 to 10
A5: 1746 | B5: 211133 | C5: MAHATMA GANDHI GOVT. SCHOOL RATANPURA (211133) | D5: BIKANER | E5: HANUMANGARH | F5: Nursery to 12 | G5: Yes | H5: -3 to 11 | I5: -3 to 12
A6: 1757 | B6: 211174 | C6: MAHATMA GANDHI GOVT. SCHOOL TIBBI (211174) | D6: BIKANER | E6: HANUMANGARH | F6: Nursery to 12 | G6: Yes | H6: -3 to 11 | I6: -3 to 12
A7: 947 | B7: 211200 | C7: MAHATMA GANDHI GOVT. SCHOOL SINTHAL (211200) | D7: BIKANER | E7: BIKANER | F7: Nursery to 10 | G7: Yes | H7: -3 to 9 | I7: -3 to 10
A8: 948 | B8: 211203 | C8: MAHATMA GANDHI GOVT. SCHOOL TEJRASAR (211203) | D8: BIKANER | E8: BIKANER | F8: Nursery to 10 | G8: Yes | H8: -3 to 9 | I8: -3 to 10
A9: 935 | B9: 211231 | C9: HALDIRAM GOVT. GIRLS SENIOR SECONDARY SCHOOL ENGLISH MEDIUM SOORSAGAR BIKANER (211231) | D9: BIKANER | E9: BIKANER | F9: Nursery to 11 | G9: Yes | H9: -3 to 10 | I9: -3 to 11
A10: 939 | B10: 211234 | C10: MAHATMA GANDHI GOVT. SCHOOL NAV TELIWARA (211234) | D10: BIKANER | E10: BIKANER | F10: Nursery to 7 | G10: Yes | H10: -3 to 6 | I10: -3 to 7
A11: 928 | B11: 211266 | C11: MAHATMA GANDHI GOVT. SCHOOL, MURLIDHAR VYAS NAGAR,BIKANER, (211266) | D11: BIKANER | E11: BIKANER | F11: Nursery to 12 | G11: Yes | H11: -3 to 12 | I11: -3 to 12
A12: 931 | B12: 211273 | C12: MAHATMA GANDHI GOVT. SCHOOL MUKTAPRASAD NAGAR BIKANER (211273) | D12: BIKANER | E12: BIKANER | F12: Nursery to 10 | G12: Yes | H12: -3 to 9 | I12: -3 to 10
A13: 1039 | B13: 211274 | C13: MAHATMA GANDHI GOVT. SCHOOL KELAN (211274) | D13: BIKANER | E13: BIKANER | F13: 1 to 6 | G13: No | H13: 1 to 5 | I13: 1 to 6
... A3738: 1313 | B3738: 532701 | C3738: MAHATMA GANDHI GOVT. SCHOOL ANJUMAN | D3738: CHURU | E3738: CHURU | F3738: 1 to 6 | G3738: No | H3738: 1 to 5 | I3738: 1 to 6

Sheet Sheet1
